BEGIN:VCALENDAR
VERSION:2.0
PRODID:-//Alabama Republican Party - ECPv5.8.2//NONSGML v1.0//EN
CALSCALE:GREGORIAN
METHOD:PUBLISH
X-WR-CALNAME:Alabama Republican Party
X-ORIGINAL-URL:https://algop.org
X-WR-CALDESC:Events for Alabama Republican Party
BEGIN:VTIMEZONE
TZID:America/Chicago
BEGIN:DAYLIGHT
TZOFFSETFROM:-0600
TZOFFSETTO:-0500
TZNAME:CDT
DTSTART:20240310T080000
END:DAYLIGHT
BEGIN:STANDARD
TZOFFSETFROM:-0500
TZOFFSETTO:-0600
TZNAME:CST
DTSTART:20241103T070000
END:STANDARD
END:VTIMEZONE
BEGIN:VEVENT
DTSTART;TZID=America/Chicago:20240205T160000
DTEND;TZID=America/Chicago:20240205T190000
DTSTAMP:20260419T081220
CREATED:20240122T190927Z
LAST-MODIFIED:20240122T190927Z
UID:38674-1707148800-1707159600@algop.org
SUMMARY:Barbour County GOP Candidate Meet & Greet
DESCRIPTION:
URL:https://algop.org/event/barbour-county-gop-candidate-meet-greet/
LOCATION:Barbour County Republican Headquarters\, 805 S. Eufaula Avenue\, Eufaula\, AL\, 36027\, United States
END:VEVENT
BEGIN:VEVENT
DTSTART;TZID=America/Chicago:20240205T180000
DTEND;TZID=America/Chicago:20240205T190000
DTSTAMP:20260419T081220
CREATED:20240220T230222Z
LAST-MODIFIED:20240220T230222Z
UID:26439-1707156000-1707159600@algop.org
SUMMARY:Calhoun County GOP
DESCRIPTION:
URL:https://algop.org/event/calhoun-county-gop-3/2024-02-05/
LOCATION:Saks Community Center\, 20 Hess Drive\, Anniston\, AL\, 36206\, United States
END:VEVENT
END:VCALENDAR