BEGIN:VCALENDAR
VERSION:2.0
PRODID:-//Alabama Republican Party - ECPv5.8.2//NONSGML v1.0//EN
CALSCALE:GREGORIAN
METHOD:PUBLISH
X-WR-CALNAME:Alabama Republican Party
X-ORIGINAL-URL:https://algop.org
X-WR-CALDESC:Events for Alabama Republican Party
BEGIN:VTIMEZONE
TZID:America/Chicago
BEGIN:DAYLIGHT
TZOFFSETFROM:-0600
TZOFFSETTO:-0500
TZNAME:CDT
DTSTART:20240310T080000
END:DAYLIGHT
BEGIN:STANDARD
TZOFFSETFROM:-0500
TZOFFSETTO:-0600
TZNAME:CST
DTSTART:20241103T070000
END:STANDARD
END:VTIMEZONE
BEGIN:VEVENT
DTSTART;TZID=America/Chicago:20240109T070000
DTEND;TZID=America/Chicago:20240109T190000
DTSTAMP:20260419T081222
CREATED:20231229T191618Z
LAST-MODIFIED:20231229T191618Z
UID:38357-1704783600-1704826800@algop.org
SUMMARY:Alabama House District 16 Special General Election
DESCRIPTION:Fayette County and portions of Tuscaloosa and Jefferson Counties only.
URL:https://algop.org/event/alabama-house-district-16-special-general-election/
END:VEVENT
BEGIN:VEVENT
DTSTART;TZID=America/Chicago:20240109T070000
DTEND;TZID=America/Chicago:20240109T190000
DTSTAMP:20260419T081222
CREATED:20231229T192328Z
LAST-MODIFIED:20231229T192328Z
UID:38363-1704783600-1704826800@algop.org
SUMMARY:Alabama Senate District 9 Special Primary Election
DESCRIPTION:Portions of Blount\, Madison and Marshall Counties only.
URL:https://algop.org/event/alabama-senate-district-9-special-primary-election/
ORGANIZER;CN="Alabama%20Republican%20Party":MAILTO:algophq@gmail.com
END:VEVENT
BEGIN:VEVENT
DTSTART;TZID=America/Chicago:20240109T110000
DTEND;TZID=America/Chicago:20240109T123000
DTSTAMP:20260419T081222
CREATED:20210423T182653Z
LAST-MODIFIED:20240110T184213Z
UID:29542-1704798000-1704803400@algop.org
SUMMARY:Republican Women of Huntsville
DESCRIPTION:The social is at 11:00 AM\, and the meeting begins at 11:30 AM at The Ledges Country Club\, 21 Castle Down Drive\, Huntsville\, AL 35802.
URL:https://algop.org/event/republican-women-of-huntsville-5-2024-01-02/
LOCATION:The Ledges Club\, 32 Castledown Dr. \, Huntsville\, AL\, 35802\, United States
ORGANIZER;CN="Republican%20Women%20of%20Huntsville":MAILTO:lenvaught@gmail.com
END:VEVENT
BEGIN:VEVENT
DTSTART;TZID=America/Chicago:20240109T173000
DTEND;TZID=America/Chicago:20240109T190000
DTSTAMP:20260419T081222
CREATED:20230123T215626Z
LAST-MODIFIED:20251014T012315Z
UID:33848-1704821400-1704826800@algop.org
SUMMARY:Lee County Republican Club
DESCRIPTION:
URL:https://algop.org/event/lee-county-republican-club-2024-01-09/2024-01-09/
LOCATION:Baumhower’s Victory Grill — Auburn\, 2353 Bent Creek Road\, Auburn\, 36830
END:VEVENT
END:VCALENDAR