BEGIN:VCALENDAR
VERSION:2.0
PRODID:-//Alabama Republican Party - ECPv5.8.2//NONSGML v1.0//EN
CALSCALE:GREGORIAN
METHOD:PUBLISH
X-WR-CALNAME:Alabama Republican Party
X-ORIGINAL-URL:https://algop.org
X-WR-CALDESC:Events for Alabama Republican Party
BEGIN:VTIMEZONE
TZID:America/Chicago
BEGIN:DAYLIGHT
TZOFFSETFROM:-0600
TZOFFSETTO:-0500
TZNAME:CDT
DTSTART:20230312T080000
END:DAYLIGHT
BEGIN:STANDARD
TZOFFSETFROM:-0500
TZOFFSETTO:-0600
TZNAME:CST
DTSTART:20231105T070000
END:STANDARD
END:VTIMEZONE
BEGIN:VEVENT
DTSTART;TZID=America/Chicago:20230905T173000
DTEND;TZID=America/Chicago:20230905T190000
DTSTAMP:20260419T131337
CREATED:20230828T200713Z
LAST-MODIFIED:20230828T200713Z
UID:36983-1693935000-1693940400@algop.org
SUMMARY:Barbour County Republican HQ Grand Opening
DESCRIPTION:U.S. Congressman Barry Moore and Alabama Republican Party Chairman John Wahl will be speaking.
URL:https://algop.org/event/barbour-county-republican-hq-grand-opening/
LOCATION:Barbour County Republican Headquarters\, 805 S. Eufaula Avenue\, Eufaula\, AL\, 36027\, United States
END:VEVENT
BEGIN:VEVENT
DTSTART;TZID=America/Chicago:20230905T180000
DTEND;TZID=America/Chicago:20230905T190000
DTSTAMP:20260419T131337
CREATED:20221214T180308Z
LAST-MODIFIED:20230216T235942Z
UID:33348-1693936800-1693940400@algop.org
SUMMARY:Cleburne County GOP
DESCRIPTION:Chad Robertson\,  State Representative\, District 40\,  He will give us an update on the recent legislative session.
URL:https://algop.org/event/cleburne-county-gop-2-2023-03-07-2023-09-05/
LOCATION:Heflin Recreation Center\, 1228 Coleman Street\, Heflin\, AL\, 36264\, United States
END:VEVENT
BEGIN:VEVENT
DTSTART;TZID=America/Chicago:20230905T190000
DTEND;TZID=America/Chicago:20230905T200000
DTSTAMP:20260419T131337
CREATED:20230626T152711Z
LAST-MODIFIED:20230626T152916Z
UID:35941-1693940400-1693944000@algop.org
SUMMARY:The University of Alabama College Republicans
DESCRIPTION:
URL:https://algop.org/event/the-university-of-alabama-college-republicans/2023-09-05/
LOCATION:Houser Hall\, Room 1002\, 301 7th Avenue\, Tuscaloosa\, AL\, 35401\, United States
END:VEVENT
END:VCALENDAR