BEGIN:VCALENDAR
VERSION:2.0
PRODID:-//Alabama Republican Party - ECPv5.8.2//NONSGML v1.0//EN
CALSCALE:GREGORIAN
METHOD:PUBLISH
X-WR-CALNAME:Alabama Republican Party
X-ORIGINAL-URL:https://algop.org
X-WR-CALDESC:Events for Alabama Republican Party
BEGIN:VTIMEZONE
TZID:America/Chicago
BEGIN:DAYLIGHT
TZOFFSETFROM:-0600
TZOFFSETTO:-0500
TZNAME:CDT
DTSTART:20220313T080000
END:DAYLIGHT
BEGIN:STANDARD
TZOFFSETFROM:-0500
TZOFFSETTO:-0600
TZNAME:CST
DTSTART:20221106T070000
END:STANDARD
END:VTIMEZONE
BEGIN:VEVENT
DTSTART;TZID=America/Chicago:20221001T080000
DTEND;TZID=America/Chicago:20221001T160000
DTSTAMP:20260422T080402
CREATED:20220912T183520Z
LAST-MODIFIED:20220912T183520Z
UID:32372-1664611200-1664640000@algop.org
SUMMARY:Calhoun County Republican Party at Oxfordfest 2022
DESCRIPTION:Oxfordfest 2022 is the largest public event before the November election. It will be held from 8:00 a.m. until 4:00 p.m. in downtown Oxford. This event is always a highly attended event with expected crowds of 20\,000 or more. The CCRP has two adjoining 10×10 booths reserved for all state and local candidates who wish to attend.  We will also have campaign literature for the candidates who have scheduling conflicts.  Our booth numbers are 130 and 131.
URL:https://algop.org/event/calhoun-county-republican-party-at-oxfordfest-2022/
LOCATION:Downtown Oxford\, AL\, Main Street\, Oxford\, AL\, United States
END:VEVENT
BEGIN:VEVENT
DTSTART;TZID=America/Chicago:20221001T080000
DTEND;TZID=America/Chicago:20221001T090000
DTSTAMP:20260422T080402
CREATED:20221003T185359Z
LAST-MODIFIED:20221003T185359Z
UID:32578-1664611200-1664614800@algop.org
SUMMARY:Cullman County Republican Party Breakfast
DESCRIPTION:$10 to eat – all the free coffee you want!
URL:https://algop.org/event/cullman-county-republican-party-breakfast/
LOCATION:Cullman VFW\, 2 Veterans Drive SW\, Cullman\, AL\, 35055\, United States
END:VEVENT
BEGIN:VEVENT
DTSTART;TZID=America/Chicago:20221001T100000
DTEND;TZID=America/Chicago:20221001T140000
DTSTAMP:20260422T080402
CREATED:20220922T175848Z
LAST-MODIFIED:20220922T175848Z
UID:32422-1664618400-1664632800@algop.org
SUMMARY:Mobile County GOP Campaign Headquarters Grand Opening
DESCRIPTION:The Mobile County GOP Headquarters will be located in the Pine Brook Shopping Center\, 3964 Airport Blvd\, Mobile\, AL 36608.  The HQ will be open to the public Mon-Friday\, 11 a.m.-4:30 p.m. and 10 a.m.-2 p.m. on Saturday.  The HQ will be open officially on Saturday October 1\, 2022. 
URL:https://algop.org/event/mobile-county-gop-campaign-headquarters-grand-opening/
LOCATION:Mobile County GOP HQ – Pinebrook Shopping Center
ORGANIZER;CN="Mobile%20County%20Republican%20Executive%20Committee":MAILTO:info@mobilegop.com
END:VEVENT
END:VCALENDAR