BEGIN:VCALENDAR
VERSION:2.0
PRODID:-//Alabama Republican Party - ECPv5.8.2//NONSGML v1.0//EN
CALSCALE:GREGORIAN
METHOD:PUBLISH
X-WR-CALNAME:Alabama Republican Party
X-ORIGINAL-URL:https://algop.org
X-WR-CALDESC:Events for Alabama Republican Party
BEGIN:VTIMEZONE
TZID:America/Chicago
BEGIN:DAYLIGHT
TZOFFSETFROM:-0600
TZOFFSETTO:-0500
TZNAME:CDT
DTSTART:20220313T080000
END:DAYLIGHT
BEGIN:STANDARD
TZOFFSETFROM:-0500
TZOFFSETTO:-0600
TZNAME:CST
DTSTART:20221106T070000
END:STANDARD
END:VTIMEZONE
BEGIN:VEVENT
DTSTART;TZID=America/Chicago:20220927T170000
DTEND;TZID=America/Chicago:20220927T190000
DTSTAMP:20260422T080705
CREATED:20220912T185559Z
LAST-MODIFIED:20220912T185559Z
UID:32384-1664298000-1664305200@algop.org
SUMMARY:Lee County GOP Headquarters Open House
DESCRIPTION:
URL:https://algop.org/event/lee-county-gop-headquarters-open-house/
END:VEVENT
BEGIN:VEVENT
DTSTART;TZID=America/Chicago:20220927T180000
DTEND;TZID=America/Chicago:20220927T200000
DTSTAMP:20260422T080705
CREATED:20220927T172443Z
LAST-MODIFIED:20220927T172555Z
UID:32519-1664301600-1664308800@algop.org
SUMMARY:Ben Robbins for State House Meet and Greet (Alabama House District 33\, Talladega County)
DESCRIPTION:
URL:https://algop.org/event/ben-robbins-for-state-house-meet-and-greet-alabama-house-district-33-talladega-county/
LOCATION:Harvey’s on Nobel\, 280 North Anniston Avenue\, Sylacauga\, AL\, 35150\, United States
END:VEVENT
END:VCALENDAR