BEGIN:VCALENDAR
VERSION:2.0
PRODID:-//Alabama Republican Party - ECPv5.8.2//NONSGML v1.0//EN
CALSCALE:GREGORIAN
METHOD:PUBLISH
X-WR-CALNAME:Alabama Republican Party
X-ORIGINAL-URL:https://algop.org
X-WR-CALDESC:Events for Alabama Republican Party
BEGIN:VTIMEZONE
TZID:America/Chicago
BEGIN:DAYLIGHT
TZOFFSETFROM:-0600
TZOFFSETTO:-0500
TZNAME:CDT
DTSTART:20220313T080000
END:DAYLIGHT
BEGIN:STANDARD
TZOFFSETFROM:-0500
TZOFFSETTO:-0600
TZNAME:CST
DTSTART:20221106T070000
END:STANDARD
END:VTIMEZONE
BEGIN:VEVENT
DTSTART;TZID=America/Chicago:20220509T183000
DTEND;TZID=America/Chicago:20220509T203000
DTSTAMP:20260422T160144
CREATED:20220412T135925Z
LAST-MODIFIED:20220412T135925Z
UID:30882-1652121000-1652128200@algop.org
SUMMARY:Chilton County Republican Party Candidate Fair
DESCRIPTION:
URL:https://algop.org/event/chilton-county-republican-party-candidate-fair/
LOCATION:Jemison Town Hall Conference Center\, 14 Padgett Lane\, Jemison\, AL\, 35085\, United States
END:VEVENT
BEGIN:VEVENT
DTSTART;TZID=America/Chicago:20220509T183000
DTEND;TZID=America/Chicago:20220509T200000
DTSTAMP:20260422T160144
CREATED:20220412T140553Z
LAST-MODIFIED:20220412T140553Z
UID:30885-1652121000-1652126400@algop.org
SUMMARY:Eagle Forum GOP Secretary of State Candidates Meet & Greet
DESCRIPTION:All four Secretary of State candidates will be in attendance: \n\nWes Allen\nChris Horn\nEd Packard\nJim Zeigler
URL:https://algop.org/event/eagle-forum-gop-secretary-of-state-candidates-meet-greet/
LOCATION:Emmet O’Neal Library\, 50 Oak Street\, Mountain Brook\, AL\, 35213\, United States
END:VEVENT
END:VCALENDAR