BEGIN:VCALENDAR
VERSION:2.0
PRODID:-//Alabama Republican Party - ECPv5.8.2//NONSGML v1.0//EN
CALSCALE:GREGORIAN
METHOD:PUBLISH
X-WR-CALNAME:Alabama Republican Party
X-ORIGINAL-URL:https://algop.org
X-WR-CALDESC:Events for Alabama Republican Party
BEGIN:VTIMEZONE
TZID:America/Chicago
BEGIN:DAYLIGHT
TZOFFSETFROM:-0600
TZOFFSETTO:-0500
TZNAME:CDT
DTSTART:20220313T080000
END:DAYLIGHT
BEGIN:STANDARD
TZOFFSETFROM:-0500
TZOFFSETTO:-0600
TZNAME:CST
DTSTART:20221106T070000
END:STANDARD
END:VTIMEZONE
BEGIN:VEVENT
DTSTART;TZID=America/Chicago:20220421T173000
DTEND;TZID=America/Chicago:20220421T193000
DTSTAMP:20260422T173503
CREATED:20211206T194502Z
LAST-MODIFIED:20220412T140828Z
UID:29450-1650562200-1650569400@algop.org
SUMMARY:Southwest Alabama Republican Rally
DESCRIPTION:
URL:https://algop.org/event/greater-southwest-alabama-republican-rally/
LOCATION:Monroeville Courthouse Square\, 31 North Alabama Avenue\, Monroeville\, AL\, 36460\, United States
END:VEVENT
BEGIN:VEVENT
DTSTART;TZID=America/Chicago:20220421T180000
DTEND;TZID=America/Chicago:20220421T200000
DTSTAMP:20260422T173503
CREATED:20220207T185256Z
LAST-MODIFIED:20220207T185256Z
UID:30546-1650564000-1650571200@algop.org
SUMMARY:Covington County GOP Candidate Forum
DESCRIPTION:
URL:https://algop.org/event/covington-county-gop-candidate-forum-6/
LOCATION:Rodney Evans Conference Center\, Lake Jackson\, Florala\, AL\, United States
END:VEVENT
BEGIN:VEVENT
DTSTART;TZID=America/Chicago:20220421T180000
DTEND;TZID=America/Chicago:20220421T200000
DTSTAMP:20260422T173503
CREATED:20220407T145911Z
LAST-MODIFIED:20220407T145911Z
UID:30823-1650564000-1650571200@algop.org
SUMMARY:Lamar County GOP Candidate Meet & Greet
DESCRIPTION:
URL:https://algop.org/event/lamar-county-gop-candidate-meet-greet/
LOCATION:Vernon City Hall\, 44425 AL-17\, Vernon\, AL\, 35592\, United States
END:VEVENT
BEGIN:VEVENT
DTSTART;TZID=America/Chicago:20220421T183000
DTEND;TZID=America/Chicago:20220421T200000
DTSTAMP:20260422T173503
CREATED:20220419T143113Z
LAST-MODIFIED:20240223T143311Z
UID:30956-1650565800-1650571200@algop.org
SUMMARY:North Jefferson Republican Patriots
DESCRIPTION:
URL:https://algop.org/event/north-jefferson-republican-patriots/2022-04-21/
LOCATION:Gardendale Civic Center\, 857 Main Street\, Gardendale\, AL\, 35071\, United States
END:VEVENT
END:VCALENDAR