BEGIN:VCALENDAR
VERSION:2.0
PRODID:-//Alabama Republican Party - ECPv5.8.2//NONSGML v1.0//EN
CALSCALE:GREGORIAN
METHOD:PUBLISH
X-WR-CALNAME:Alabama Republican Party
X-ORIGINAL-URL:https://algop.org
X-WR-CALDESC:Events for Alabama Republican Party
BEGIN:VTIMEZONE
TZID:America/Chicago
BEGIN:DAYLIGHT
TZOFFSETFROM:-0600
TZOFFSETTO:-0500
TZNAME:CDT
DTSTART:20220313T080000
END:DAYLIGHT
BEGIN:STANDARD
TZOFFSETFROM:-0500
TZOFFSETTO:-0600
TZNAME:CST
DTSTART:20221106T070000
END:STANDARD
END:VTIMEZONE
BEGIN:VEVENT
DTSTART;TZID=America/Chicago:20220401T180000
DTEND;TZID=America/Chicago:20220401T210000
DTSTAMP:20260422T173420
CREATED:20220202T191016Z
LAST-MODIFIED:20220202T191016Z
UID:30504-1648836000-1648846800@algop.org
SUMMARY:Houston County GOP Lincoln-Reagan Dinner
DESCRIPTION:Lincoln-Reagan Dinner with Charlie Kirk – Great Southern Wood\, Mike Schmitz Automotive Group\, and The Houston County Republican Executive Committee hosts Charlie Kirk on April 1st\, 2022 at the Dothan Civic Center. The VIP Reception begins at 6:00pm with dinner and the program beginning at 7:00pm. \nCharlie Kirk is a prominent Republican Activist and Radio Talk Show Host who founded Turning Point USA in 2012. He is often featured as a host on Fox News and has twice addressed the Republican National Convention. \nAlso being honored is the Honorable Mark Culver\, the current County Commission Chairman of Houston County and the first Republican ever elected in Houston County. Mr. Culver is retiring from public office in November after an engaging life of service to our community. \nThe event is to raise funds to support Republicans in the upcoming mid-term election. This is a critical time to push back against the Biden agenda and fight for our American values. \nHosting this event is U.S. Congressman Barry Moore\, Lt. Governor Will Ainsworth\, Alabama State Ag & Industries Commissioner Rick Pate\, State Senator Donnie Chesteen\, State Representatives Steve Clouse\, Paul Lee\, & Jeff Sorrells\, Houston County Commissioners Brandon Shoupe & Doug Sinquefield.
URL:https://algop.org/event/houston-county-gop-lincoln-reagan-dinner/
LOCATION:Dothan Civic Center\, 126 N. St. Andrews Street\, Dothan\, AL\, 36303\, United States
END:VEVENT
END:VCALENDAR