BEGIN:VCALENDAR
VERSION:2.0
PRODID:-//Alabama Republican Party - ECPv5.8.2//NONSGML v1.0//EN
CALSCALE:GREGORIAN
METHOD:PUBLISH
X-WR-CALNAME:Alabama Republican Party
X-ORIGINAL-URL:https://algop.org
X-WR-CALDESC:Events for Alabama Republican Party
BEGIN:VTIMEZONE
TZID:America/Chicago
BEGIN:DAYLIGHT
TZOFFSETFROM:-0600
TZOFFSETTO:-0500
TZNAME:CDT
DTSTART:20220313T080000
END:DAYLIGHT
BEGIN:STANDARD
TZOFFSETFROM:-0500
TZOFFSETTO:-0600
TZNAME:CST
DTSTART:20221106T070000
END:STANDARD
END:VTIMEZONE
BEGIN:VEVENT
DTSTART;TZID=America/Chicago:20220331T170000
DTEND;TZID=America/Chicago:20220331T180000
DTSTAMP:20260422T173315
CREATED:20220321T211116Z
LAST-MODIFIED:20220321T211116Z
UID:30774-1648746000-1648749600@algop.org
SUMMARY:Walker County Republican Party
DESCRIPTION:
URL:https://algop.org/event/walker-county-republican-party-4/
LOCATION:Bevill Cafeteria – Jasper Campus\, 1411 Indiana Avenue\, Jasper\, AL\, 35501\, United States
ORGANIZER;CN="Walker%20County%20Republican%20Party":MAILTO:lensor@att.net
END:VEVENT
END:VCALENDAR