BEGIN:VCALENDAR
VERSION:2.0
PRODID:-//Alabama Republican Party - ECPv5.8.2//NONSGML v1.0//EN
CALSCALE:GREGORIAN
METHOD:PUBLISH
X-WR-CALNAME:Alabama Republican Party
X-ORIGINAL-URL:https://algop.org
X-WR-CALDESC:Events for Alabama Republican Party
BEGIN:VTIMEZONE
TZID:America/Chicago
BEGIN:DAYLIGHT
TZOFFSETFROM:-0600
TZOFFSETTO:-0500
TZNAME:CDT
DTSTART:20220313T080000
END:DAYLIGHT
BEGIN:STANDARD
TZOFFSETFROM:-0500
TZOFFSETTO:-0600
TZNAME:CST
DTSTART:20221106T070000
END:STANDARD
END:VTIMEZONE
BEGIN:VEVENT
DTSTART;TZID=America/Chicago:20220324T173000
DTEND;TZID=America/Chicago:20220324T203000
DTSTAMP:20260422T190333
CREATED:20220126T210624Z
LAST-MODIFIED:20220126T210624Z
UID:30347-1648143000-1648153800@algop.org
SUMMARY:We Back the Blue Dinner
DESCRIPTION:We Back the Blue Dinner  – sponsored by the Baldwin County GOP \nFeaturing Sheriff David Clarke \nVIP Reception at 5:30 p.m.\, Dinner at 6:30 p.m.\n\nPurchase tickets for $75 a person at  www.baldwincountygop.com\n\nFor sponsorship information\, email bcrpevents2022@gmail.com
URL:https://algop.org/event/we-back-the-blue-dinner/
LOCATION:Daphne Civic Center\, 2603 US Highway 98\, Daphne\, AL\, United States
END:VEVENT
END:VCALENDAR