BEGIN:VCALENDAR
VERSION:2.0
PRODID:-//Alabama Republican Party - ECPv5.8.2//NONSGML v1.0//EN
CALSCALE:GREGORIAN
METHOD:PUBLISH
X-WR-CALNAME:Alabama Republican Party
X-ORIGINAL-URL:https://algop.org
X-WR-CALDESC:Events for Alabama Republican Party
BEGIN:VTIMEZONE
TZID:America/Chicago
BEGIN:DAYLIGHT
TZOFFSETFROM:-0600
TZOFFSETTO:-0500
TZNAME:CDT
DTSTART:20220313T080000
END:DAYLIGHT
BEGIN:STANDARD
TZOFFSETFROM:-0500
TZOFFSETTO:-0600
TZNAME:CST
DTSTART:20221106T070000
END:STANDARD
END:VTIMEZONE
BEGIN:VEVENT
DTSTART;TZID=America/Chicago:20220318T180000
DTEND;TZID=America/Chicago:20220318T210000
DTSTAMP:20260422T190215
CREATED:20220120T204003Z
LAST-MODIFIED:20220202T163700Z
UID:30127-1647626400-1647637200@algop.org
SUMMARY:Jefferson County Republican Gala Honoring U.S. Senator Tommy Tuberville
DESCRIPTION:
URL:https://algop.org/event/jefferson-county-republican-gala/
LOCATION:The Club\, 1 Robert S. Smith Drive \, Birmingham\, AL\, 35209\, United States
ORGANIZER;CN="Jefferson%20County%20Republican%20Party":MAILTO:jeffcogopal@gmail.com
END:VEVENT
END:VCALENDAR