BEGIN:VCALENDAR
VERSION:2.0
PRODID:-//Alabama Republican Party - ECPv5.8.2//NONSGML v1.0//EN
CALSCALE:GREGORIAN
METHOD:PUBLISH
X-WR-CALNAME:Alabama Republican Party
X-ORIGINAL-URL:https://algop.org
X-WR-CALDESC:Events for Alabama Republican Party
BEGIN:VTIMEZONE
TZID:America/Chicago
BEGIN:DAYLIGHT
TZOFFSETFROM:-0600
TZOFFSETTO:-0500
TZNAME:CDT
DTSTART:20220313T080000
END:DAYLIGHT
BEGIN:STANDARD
TZOFFSETFROM:-0500
TZOFFSETTO:-0600
TZNAME:CST
DTSTART:20221106T070000
END:STANDARD
END:VTIMEZONE
BEGIN:VEVENT
DTSTART;TZID=America/Chicago:20220305T173000
DTEND;TZID=America/Chicago:20220305T210000
DTSTAMP:20260422T190214
CREATED:20220224T160947Z
LAST-MODIFIED:20220224T173713Z
UID:30689-1646501400-1646514000@algop.org
SUMMARY:Winston County GOP Ronald Reagan Dinner
DESCRIPTION:
URL:https://algop.org/event/winston-county-gop-ronald-reagan-dinner/
LOCATION:Double Springs Municipal Building\, Highway 195 South\, Double Springs\, AL\, 35553\, United States
END:VEVENT
END:VCALENDAR