BEGIN:VCALENDAR
VERSION:2.0
PRODID:-//Alabama Republican Party - ECPv5.8.2//NONSGML v1.0//EN
CALSCALE:GREGORIAN
METHOD:PUBLISH
X-WR-CALNAME:Alabama Republican Party
X-ORIGINAL-URL:https://algop.org
X-WR-CALDESC:Events for Alabama Republican Party
BEGIN:VTIMEZONE
TZID:America/Chicago
BEGIN:DAYLIGHT
TZOFFSETFROM:-0600
TZOFFSETTO:-0500
TZNAME:CDT
DTSTART:20220313T080000
END:DAYLIGHT
BEGIN:STANDARD
TZOFFSETFROM:-0500
TZOFFSETTO:-0600
TZNAME:CST
DTSTART:20221106T070000
END:STANDARD
END:VTIMEZONE
BEGIN:VEVENT
DTSTART;TZID=America/Chicago:20220228T173000
DTEND;TZID=America/Chicago:20220228T200000
DTSTAMP:20260422T190216
CREATED:20220207T190129Z
LAST-MODIFIED:20220207T190129Z
UID:30548-1646069400-1646078400@algop.org
SUMMARY:Walker County GOP Meet the Candidates
DESCRIPTION:BBQ buffet starts at 5:30 p.m. – Candidates being speaking at 6:45 p.m. \nCall 205-221-2026 or 205-388-7205 to purchase tickets.
URL:https://algop.org/event/walker-county-gop-meet-the-candidates/
LOCATION:Jasper Civic Center\, 204 19th Street East\, Jasper\, AL\, 35501\, United States
ORGANIZER;CN="Walker%20County%20Republican%20Party":MAILTO:lensor@att.net
END:VEVENT
END:VCALENDAR