BEGIN:VCALENDAR
VERSION:2.0
PRODID:-//Alabama Republican Party - ECPv5.8.2//NONSGML v1.0//EN
CALSCALE:GREGORIAN
METHOD:PUBLISH
X-WR-CALNAME:Alabama Republican Party
X-ORIGINAL-URL:https://algop.org
X-WR-CALDESC:Events for Alabama Republican Party
BEGIN:VTIMEZONE
TZID:America/Chicago
BEGIN:DAYLIGHT
TZOFFSETFROM:-0600
TZOFFSETTO:-0500
TZNAME:CDT
DTSTART:20220313T080000
END:DAYLIGHT
BEGIN:STANDARD
TZOFFSETFROM:-0500
TZOFFSETTO:-0600
TZNAME:CST
DTSTART:20221106T070000
END:STANDARD
END:VTIMEZONE
BEGIN:VEVENT
DTSTART;TZID=America/Chicago:20220224T180000
DTEND;TZID=America/Chicago:20220224T190000
DTSTAMP:20260422T203514
CREATED:20220223T160739Z
LAST-MODIFIED:20220223T160812Z
UID:30652-1645725600-1645729200@algop.org
SUMMARY:Montgomery County Republican Executive Committee
DESCRIPTION:
URL:https://algop.org/event/montgomery-county-republican-executive-committee-2/2022-02-24/
LOCATION:Faulkner University Cafe\, 5345 Atlanta Highway\, Montgomery\, AL\, 36109\, United States
ORGANIZER;CN="Montgomery%20County%20Republican%20Executive%20Committee":MAILTO:mcrec2014@gmail.com
END:VEVENT
END:VCALENDAR