BEGIN:VCALENDAR
VERSION:2.0
PRODID:-//Alabama Republican Party - ECPv5.8.2//NONSGML v1.0//EN
CALSCALE:GREGORIAN
METHOD:PUBLISH
X-WR-CALNAME:Alabama Republican Party
X-ORIGINAL-URL:https://algop.org
X-WR-CALDESC:Events for Alabama Republican Party
BEGIN:VTIMEZONE
TZID:America/Chicago
BEGIN:DAYLIGHT
TZOFFSETFROM:-0600
TZOFFSETTO:-0500
TZNAME:CDT
DTSTART:20220313T080000
END:DAYLIGHT
BEGIN:STANDARD
TZOFFSETFROM:-0500
TZOFFSETTO:-0600
TZNAME:CST
DTSTART:20221106T070000
END:STANDARD
END:VTIMEZONE
BEGIN:VEVENT
DTSTART;TZID=America/Chicago:20220219T090000
DTEND;TZID=America/Chicago:20220219T130000
DTSTAMP:20260422T203515
CREATED:20220120T204540Z
LAST-MODIFIED:20220120T204540Z
UID:30134-1645261200-1645275600@algop.org
SUMMARY:ALGOP Winter Meeting
DESCRIPTION:
URL:https://algop.org/event/algop-winter-meeting-2/
LOCATION:Birmingham Sheraton Hotel\, 2101 Richard Arrington Jr. Blvd N\, Birmingham\, AL\, 35216\, United States
ORGANIZER;CN="Alabama%20Republican%20Party":MAILTO:algophq@gmail.com
END:VEVENT
END:VCALENDAR