BEGIN:VCALENDAR
VERSION:2.0
PRODID:-//Alabama Republican Party - ECPv5.8.2//NONSGML v1.0//EN
CALSCALE:GREGORIAN
METHOD:PUBLISH
X-WR-CALNAME:Alabama Republican Party
X-ORIGINAL-URL:https://algop.org
X-WR-CALDESC:Events for Alabama Republican Party
BEGIN:VTIMEZONE
TZID:America/Chicago
BEGIN:DAYLIGHT
TZOFFSETFROM:-0600
TZOFFSETTO:-0500
TZNAME:CDT
DTSTART:20220313T080000
END:DAYLIGHT
BEGIN:STANDARD
TZOFFSETFROM:-0500
TZOFFSETTO:-0600
TZNAME:CST
DTSTART:20221106T070000
END:STANDARD
END:VTIMEZONE
BEGIN:VEVENT
DTSTART;TZID=America/Chicago:20220210T173000
DTEND;TZID=America/Chicago:20220210T200000
DTSTAMP:20260422T203515
CREATED:20220202T190511Z
LAST-MODIFIED:20220202T190511Z
UID:30501-1644514200-1644523200@algop.org
SUMMARY:Houston County GOP Candidate Forum
DESCRIPTION:Including: \n\nU.S. Senate Candidates\nGubernatorial Candidates\nState and Local Candidates
URL:https://algop.org/event/houston-county-gop-candidate-forum/
LOCATION:Wiregrass Rehabilitation Center\, 795 Ross Clark Circle #1\, Dothan\, AL\, 36303\, United States
END:VEVENT
BEGIN:VEVENT
DTSTART;TZID=America/Chicago:20220210T180000
DTEND;TZID=America/Chicago:20220210T200000
DTSTAMP:20260422T203515
CREATED:20220207T184808Z
LAST-MODIFIED:20220207T184808Z
UID:30541-1644516000-1644523200@algop.org
SUMMARY:Covington County GOP Candidate Forum
DESCRIPTION:
URL:https://algop.org/event/covington-county-gop-candidate-forum-4/
LOCATION:Andalusia City Hall Auditorium\, 505 East 3 Notch Street\, Andalusia\, AL\, 36420\, United States
END:VEVENT
END:VCALENDAR