BEGIN:VCALENDAR
VERSION:2.0
PRODID:-//Alabama Republican Party - ECPv5.8.2//NONSGML v1.0//EN
CALSCALE:GREGORIAN
METHOD:PUBLISH
X-WR-CALNAME:Alabama Republican Party
X-ORIGINAL-URL:https://algop.org
X-WR-CALDESC:Events for Alabama Republican Party
BEGIN:VTIMEZONE
TZID:America/Chicago
BEGIN:DAYLIGHT
TZOFFSETFROM:-0600
TZOFFSETTO:-0500
TZNAME:CDT
DTSTART:20220313T080000
END:DAYLIGHT
BEGIN:STANDARD
TZOFFSETFROM:-0500
TZOFFSETTO:-0600
TZNAME:CST
DTSTART:20221106T070000
END:STANDARD
END:VTIMEZONE
BEGIN:VEVENT
DTSTART;TZID=America/Chicago:20220204T180000
DTEND;TZID=America/Chicago:20220204T190000
DTSTAMP:20260422T203559
CREATED:20220110T211701Z
LAST-MODIFIED:20220110T211701Z
UID:29858-1643997600-1644001200@algop.org
SUMMARY:Cleburne County Republicans – Guest Speaker
DESCRIPTION:Speaker:  Leo Hohmann\, a veteran investigative reporter and author \nWhen:  Friday\, February 4\, 2022 at 6 p.m. \nWhere:  The City of Heflin Armory\, 115 Evans Street \nSponsored by the Cleburne County GOP \nThe Great Reset in Their Own Words \nIn November 2016\, Ida Auken of the World Economic Forum leadership    team wrote in a Forbes article: \n“Welcome to the year 2030.  Welcome to my city—or should I say “our city.”  I don’t own anything.  I don’t own a car.  I don’t own a house.  I don’t own any appliances or any clothes…Everything you considered a product\, has now become a service….  In our city we don’t pay any rent\, because someone else is using our free space whenever we do not need it.  My living room is used for business meetings when I am not there….  Once in a while I get annoyed about the fact that I have no real privacy.  Nowhere I can go and not be registered.  I know that somewhere\, everything I do\, think and dream of is recorded.  I just hope that nobody will use it against me.  All in all\, it is a good life.” \nGuest Speaker \nLeo Hohmann is a veteran investigative reporter and author whose recent book\, “Stealth Invasion” spent the majority of 2017 among Amazon.com’s top 10 books on immigration. He has spent decades researching and writing about education\, immigration\, crime\, politics and religion. His articles have appeared at WND.com\, FrontPage Magazine\, LifeSite News\, Zero Hedge\, the Drudge Report\, Canon 212\, Technocracy News\, Canada Free Press\, Citizen Free Press\, Rense.com\, lewrockwell.com and many other websites and publications. Hohmann has been interviewed by dozens of local and national radio hosts including Laura Ingraham of Fox News\, Daniel Horowitz of Conservative Review\, Larry Elder\, George Noory of Coast to Coast\, John B. Wells of Caravan to Midnight and Jan Markell of Olive Tree Ministries. His mission has always been to fearlessly report truths about the great issues of our time and connect the dots\, wherever they may lead. He also seeks to report issues in historical context so his readers can grasp the greater meaning of the day’s news.
URL:https://algop.org/event/cleburne-county-republicans-guest-speaker/
LOCATION:City of Heflin Armory\, 115 Evans Street\, Heflin\, AL\, 36264\, United States
END:VEVENT
END:VCALENDAR