BEGIN:VCALENDAR
VERSION:2.0
PRODID:-//Alabama Republican Party - ECPv5.8.2//NONSGML v1.0//EN
CALSCALE:GREGORIAN
METHOD:PUBLISH
X-WR-CALNAME:Alabama Republican Party
X-ORIGINAL-URL:https://algop.org
X-WR-CALDESC:Events for Alabama Republican Party
BEGIN:VTIMEZONE
TZID:America/Chicago
BEGIN:DAYLIGHT
TZOFFSETFROM:-0600
TZOFFSETTO:-0500
TZNAME:CDT
DTSTART:20220313T080000
END:DAYLIGHT
BEGIN:STANDARD
TZOFFSETFROM:-0500
TZOFFSETTO:-0600
TZNAME:CST
DTSTART:20221106T070000
END:STANDARD
END:VTIMEZONE
BEGIN:VEVENT
DTSTART;TZID=America/Chicago:20220129T080000
DTEND;TZID=America/Chicago:20220129T100000
DTSTAMP:20260422T220612
CREATED:20220120T203741Z
LAST-MODIFIED:20220120T203756Z
UID:30125-1643443200-1643450400@algop.org
SUMMARY:2022 Pancakes and Politics – Sponsored by the Jefferson County GOP
DESCRIPTION:
URL:https://algop.org/event/2022-pancakes-and-politics-sponsored-by-the-jefferson-county-gop/
LOCATION:Vestavia Hills Civic Center\, 1090 Montgomery Highway\, Vestavia Hills\, AL\, 35216
ORGANIZER;CN="Jefferson%20County%20Republican%20Party":MAILTO:jeffcogopal@gmail.com
END:VEVENT
END:VCALENDAR