BEGIN:VCALENDAR
VERSION:2.0
PRODID:-//Alabama Republican Party - ECPv5.8.2//NONSGML v1.0//EN
CALSCALE:GREGORIAN
METHOD:PUBLISH
X-WR-CALNAME:Alabama Republican Party
X-ORIGINAL-URL:https://algop.org
X-WR-CALDESC:Events for Alabama Republican Party
BEGIN:VTIMEZONE
TZID:America/New_York
BEGIN:DAYLIGHT
TZOFFSETFROM:-0500
TZOFFSETTO:-0400
TZNAME:EDT
DTSTART:20210314T070000
END:DAYLIGHT
BEGIN:STANDARD
TZOFFSETFROM:-0400
TZOFFSETTO:-0500
TZNAME:EST
DTSTART:20211107T060000
END:STANDARD
END:VTIMEZONE
BEGIN:VEVENT
DTSTART;TZID=America/New_York:20211006T120000
DTEND;TZID=America/New_York:20211006T130000
DTSTAMP:20260423T025904
CREATED:20210310T203621Z
LAST-MODIFIED:20210311T020128Z
UID:27680-1633521600-1633525200@algop.org
SUMMARY:Russell County GOP Executive Committee
DESCRIPTION:Please note that all times are in EASTERN not Central.  Thank you!
URL:https://algop.org/event/russell-county-executive-committee-4/
LOCATION:T Bones Restaurant\, 3745 US Highway 80 W\, Phenix City\, AL\, 36389\, United States
END:VEVENT
END:VCALENDAR