BEGIN:VCALENDAR
VERSION:2.0
PRODID:-//Alabama Republican Party - ECPv5.8.2//NONSGML v1.0//EN
CALSCALE:GREGORIAN
METHOD:PUBLISH
X-WR-CALNAME:Alabama Republican Party
X-ORIGINAL-URL:https://algop.org
X-WR-CALDESC:Events for Alabama Republican Party
BEGIN:VTIMEZONE
TZID:America/Chicago
BEGIN:DAYLIGHT
TZOFFSETFROM:-0600
TZOFFSETTO:-0500
TZNAME:CDT
DTSTART:20210314T080000
END:DAYLIGHT
BEGIN:STANDARD
TZOFFSETFROM:-0500
TZOFFSETTO:-0600
TZNAME:CST
DTSTART:20211107T070000
END:STANDARD
END:VTIMEZONE
BEGIN:VEVENT
DTSTART;TZID=America/Chicago:20210713T120000
DTEND;TZID=America/Chicago:20210713T130000
DTSTAMP:20260423T073947
CREATED:20210628T190643Z
LAST-MODIFIED:20221207T202241Z
UID:29105-1626177600-1626181200@algop.org
SUMMARY:Geneva County Republican Women
DESCRIPTION:
URL:https://algop.org/event/republican-women-of-geneva-county/2021-07-13/
LOCATION:La Leyenda Mexican Grill\, 1416 West Maple Avenue\, Geneva\, AL\, 36340\, United States
END:VEVENT
BEGIN:VEVENT
DTSTART;TZID=America/Chicago:20210713T180000
DTEND;TZID=America/Chicago:20210713T190000
DTSTAMP:20260423T073947
CREATED:20210311T031353Z
LAST-MODIFIED:20210311T031353Z
UID:27790-1626199200-1626202800@algop.org
SUMMARY:Dekalb County GOP Steering Committee
DESCRIPTION:
URL:https://algop.org/event/dekalb-county-gop-steering-committee-3/
LOCATION:Activities Building\, 111 Grand Avenue SW\, Fort Payne\, AL\, 35967\, United States
END:VEVENT
BEGIN:VEVENT
DTSTART;TZID=America/Chicago:20210713T190000
DTEND;TZID=America/Chicago:20210713T200000
DTSTAMP:20260423T073947
CREATED:20210628T145016Z
LAST-MODIFIED:20210628T145247Z
UID:28627-1626202800-1626206400@algop.org
SUMMARY:Fayette County GOP
DESCRIPTION:
URL:https://algop.org/event/fayette-county-gop/2021-07-13/
LOCATION:Fayette Civic Center\, 534 Temple Avenue North\, Fayette\, AL\, 35555\, United States
END:VEVENT
END:VCALENDAR