BEGIN:VCALENDAR
VERSION:2.0
PRODID:-//Alabama Republican Party - ECPv5.8.2//NONSGML v1.0//EN
CALSCALE:GREGORIAN
METHOD:PUBLISH
X-WR-CALNAME:Alabama Republican Party
X-ORIGINAL-URL:https://algop.org
X-WR-CALDESC:Events for Alabama Republican Party
BEGIN:VTIMEZONE
TZID:America/Chicago
BEGIN:DAYLIGHT
TZOFFSETFROM:-0600
TZOFFSETTO:-0500
TZNAME:CDT
DTSTART:20210314T080000
END:DAYLIGHT
BEGIN:STANDARD
TZOFFSETFROM:-0500
TZOFFSETTO:-0600
TZNAME:CST
DTSTART:20211107T070000
END:STANDARD
END:VTIMEZONE
BEGIN:VEVENT
DTSTART;TZID=America/Chicago:20210622T183000
DTEND;TZID=America/Chicago:20210622T193000
DTSTAMP:20260423T094029
CREATED:20210604T162046Z
LAST-MODIFIED:20210604T162046Z
UID:28512-1624386600-1624390200@algop.org
SUMMARY:Clay County Republican Party
DESCRIPTION:Second Quarter Meeting
URL:https://algop.org/event/clay-county-republican-party/
LOCATION:Clay County Farmers Market\, 86838 Highway 9\, Lineville\, AL\, 36266\, United States
END:VEVENT
END:VCALENDAR