BEGIN:VCALENDAR
VERSION:2.0
PRODID:-//Alabama Republican Party - ECPv5.8.2//NONSGML v1.0//EN
CALSCALE:GREGORIAN
METHOD:PUBLISH
X-WR-CALNAME:Alabama Republican Party
X-ORIGINAL-URL:https://algop.org
X-WR-CALDESC:Events for Alabama Republican Party
BEGIN:VTIMEZONE
TZID:America/Chicago
BEGIN:DAYLIGHT
TZOFFSETFROM:-0600
TZOFFSETTO:-0500
TZNAME:CDT
DTSTART:20210314T080000
END:DAYLIGHT
BEGIN:STANDARD
TZOFFSETFROM:-0500
TZOFFSETTO:-0600
TZNAME:CST
DTSTART:20211107T070000
END:STANDARD
END:VTIMEZONE
BEGIN:VEVENT
DTSTART;TZID=America/Chicago:20210611T180000
DTEND;TZID=America/Chicago:20210611T210000
DTSTAMP:20260423T094142
CREATED:20210419T185954Z
LAST-MODIFIED:20210503T193905Z
UID:28158-1623434400-1623445200@algop.org
SUMMARY:Saluting Their Service: Jefferson County GOP Fundraiser
DESCRIPTION:Join the Jefferson County Republican Party for “Saluting Their Service” – a fundraiser to honor the service of Alabama Supreme Court Justice Mike Bolin and Alabama State Representative Jim Carns with Special Guest Lieutenant General Michael Flynn.  Contact the Cindy Douglas of the Jefferson County Republican Party at cynthiandouglas@gmail.com for sponsorship and ticket information or purchase on-line here: https://secure.anedot.com/jefferson-county-republican-party/2021-dinner.
URL:https://algop.org/event/saluting-their-service-jefferson-county-gop-fundraiser-featuring-lt-gen-michael-flynn-and-lee-greenwood/
LOCATION:Birmingham Sheraton Hotel\, 2101 Richard Arrington Jr. Blvd N\, Birmingham\, AL\, 35216\, United States
ORGANIZER;CN="Jefferson%20County%20Republican%20Party":MAILTO:jeffcogopal@gmail.com
END:VEVENT
BEGIN:VEVENT
DTSTART;TZID=America/Chicago:20210611T183000
DTEND;TZID=America/Chicago:20210611T210000
DTSTAMP:20260423T094142
CREATED:20210323T185357Z
LAST-MODIFIED:20210503T193733Z
UID:27933-1623436200-1623445200@algop.org
SUMMARY:The Lt. Gov. Will Ainsworth Roast @Young Republican Federation of Alabama Convention
DESCRIPTION:Sponsorship Information \nPlatinum ~ $2\,500 \nGold ~ $1\,000 \nSilver ~ $500 \nBronze ~ $250 \nIndividual Tickets ~ $50 Sponsorships \nVisit https://secure.anedot.com/yrfa/ainsworth_roast to RSVP today!
URL:https://algop.org/event/young-republican-federation-of-alabama-convention/2021-06-11/
LOCATION:RSA Activity Center\, 201 Dexter Avenue\, Montgomery\, AL\, 36104\, United States
END:VEVENT
END:VCALENDAR