BEGIN:VCALENDAR
VERSION:2.0
PRODID:-//Alabama Republican Party - ECPv5.8.2//NONSGML v1.0//EN
CALSCALE:GREGORIAN
METHOD:PUBLISH
X-WR-CALNAME:Alabama Republican Party
X-ORIGINAL-URL:https://algop.org
X-WR-CALDESC:Events for Alabama Republican Party
BEGIN:VTIMEZONE
TZID:America/Chicago
BEGIN:DAYLIGHT
TZOFFSETFROM:-0600
TZOFFSETTO:-0500
TZNAME:CDT
DTSTART:20210314T080000
END:DAYLIGHT
BEGIN:STANDARD
TZOFFSETFROM:-0500
TZOFFSETTO:-0600
TZNAME:CST
DTSTART:20211107T070000
END:STANDARD
END:VTIMEZONE
BEGIN:VEVENT
DTSTART;TZID=America/Chicago:20210527T180000
DTEND;TZID=America/Chicago:20210527T190000
DTSTAMP:20260423T104711
CREATED:20210519T141327Z
LAST-MODIFIED:20210519T141327Z
UID:28500-1622138400-1622142000@algop.org
SUMMARY:Jefferson County GOP Executive Committee
DESCRIPTION:
URL:https://algop.org/event/jefferson-county-gop-executive-committee/
LOCATION:AGC\, 5000 Grantswood Road\, Irondale\, AL\, 35210\, United States
ORGANIZER;CN="Jefferson%20County%20Republican%20Party":MAILTO:jeffcogopal@gmail.com
END:VEVENT
END:VCALENDAR