BEGIN:VCALENDAR
VERSION:2.0
PRODID:-//Alabama Republican Party - ECPv5.8.2//NONSGML v1.0//EN
CALSCALE:GREGORIAN
METHOD:PUBLISH
X-WR-CALNAME:Alabama Republican Party
X-ORIGINAL-URL:https://algop.org
X-WR-CALDESC:Events for Alabama Republican Party
BEGIN:VTIMEZONE
TZID:America/Chicago
BEGIN:DAYLIGHT
TZOFFSETFROM:-0600
TZOFFSETTO:-0500
TZNAME:CDT
DTSTART:20210314T080000
END:DAYLIGHT
BEGIN:STANDARD
TZOFFSETFROM:-0500
TZOFFSETTO:-0600
TZNAME:CST
DTSTART:20211107T070000
END:STANDARD
END:VTIMEZONE
BEGIN:VEVENT
DTSTART;TZID=America/Chicago:20210511T180000
DTEND;TZID=America/Chicago:20210511T190000
DTSTAMP:20260423T104738
CREATED:20210311T024428Z
LAST-MODIFIED:20210311T024428Z
UID:27786-1620756000-1620759600@algop.org
SUMMARY:Dekalb County GOP Steering Committee
DESCRIPTION:
URL:https://algop.org/event/dekalb-county-gop-steering-committee-2/
LOCATION:Activities Building\, 111 Grand Avenue SW\, Fort Payne\, AL\, 35967\, United States
END:VEVENT
BEGIN:VEVENT
DTSTART;TZID=America/Chicago:20210511T180000
DTEND;TZID=America/Chicago:20210511T200000
DTSTAMP:20260423T104738
CREATED:20210324T122228Z
LAST-MODIFIED:20210324T122228Z
UID:27947-1620756000-1620763200@algop.org
SUMMARY:5th Congressional District Republican Committee Quarterly Meeting
DESCRIPTION:
URL:https://algop.org/event/5th-congressional-district-republican-committee-quarterly-meeting/
LOCATION:Greenbrier Restaurant\, 27028 Old Highway 20\, Madison\, AL\, 35756\, United States
END:VEVENT
BEGIN:VEVENT
DTSTART;TZID=America/Chicago:20210511T190000
DTEND;TZID=America/Chicago:20210511T200000
DTSTAMP:20260423T104738
CREATED:20210311T034116Z
LAST-MODIFIED:20210311T034116Z
UID:27857-1620759600-1620763200@algop.org
SUMMARY:Shelby County GOP
DESCRIPTION:
URL:https://algop.org/event/shelby-county-gop/2021-05-11/
LOCATION:AL
END:VEVENT
END:VCALENDAR