BEGIN:VCALENDAR
VERSION:2.0
PRODID:-//Alabama Republican Party - ECPv5.8.2//NONSGML v1.0//EN
CALSCALE:GREGORIAN
METHOD:PUBLISH
X-WR-CALNAME:Alabama Republican Party
X-ORIGINAL-URL:https://algop.org
X-WR-CALDESC:Events for Alabama Republican Party
BEGIN:VTIMEZONE
TZID:America/Chicago
BEGIN:DAYLIGHT
TZOFFSETFROM:-0600
TZOFFSETTO:-0500
TZNAME:CDT
DTSTART:20210314T080000
END:DAYLIGHT
BEGIN:STANDARD
TZOFFSETFROM:-0500
TZOFFSETTO:-0600
TZNAME:CST
DTSTART:20211107T070000
END:STANDARD
END:VTIMEZONE
BEGIN:VEVENT
DTSTART;TZID=America/Chicago:20210504T110000
DTEND;TZID=America/Chicago:20210504T123000
DTSTAMP:20260423T105507
CREATED:20210423T182653Z
LAST-MODIFIED:20240110T184130Z
UID:28261-1620126000-1620131400@algop.org
SUMMARY:Republican Women of Huntsville
DESCRIPTION:The social is at 11:00 AM\, and the meeting begins at 11:30 AM at The Ledges Country Club\, 21 Castle Down Drive\, Huntsville\, AL 35802.
URL:https://algop.org/event/republican-women-of-huntsville-5/2021-05-04/
LOCATION:The Ledges Club\, 32 Castledown Dr. \, Huntsville\, AL\, 35802\, United States
ORGANIZER;CN="Republican%20Women%20of%20Huntsville":MAILTO:lenvaught@gmail.com
END:VEVENT
BEGIN:VEVENT
DTSTART;TZID=America/Chicago:20210504T180000
DTEND;TZID=America/Chicago:20210504T193000
DTSTAMP:20260423T105507
CREATED:20210428T162429Z
LAST-MODIFIED:20210428T162429Z
UID:28375-1620151200-1620156600@algop.org
SUMMARY:Limestone County GOP - Reception for ALGOP Chairman John Wahl
DESCRIPTION:SPONSORSHIPS ARE AVAILABLE. ALL SPONSORS will be recognized at the event! \n\nPLATINUM SPONSOR: $1200\nGOLD SPONSOR:   $600\nSILVER SPONSOR:  $300\nBRONZE SPONSOR:  $100\n\nTo sponsor the event and/or RSVP please contact Sheila Banister at 703.839.0905 or sheila.banister.jones@gmail.com
URL:https://algop.org/event/limestone-county-gop-reception-for-algop-chairman-john-wahl/
LOCATION:Canebreak Country Club\, 23015 Founders Circle\, Athens\, AL\, 35613\, United States
END:VEVENT
END:VCALENDAR