BEGIN:VCALENDAR
VERSION:2.0
PRODID:-//Alabama Republican Party - ECPv5.8.2//NONSGML v1.0//EN
CALSCALE:GREGORIAN
METHOD:PUBLISH
X-WR-CALNAME:Alabama Republican Party
X-ORIGINAL-URL:https://algop.org
X-WR-CALDESC:Events for Alabama Republican Party
BEGIN:VTIMEZONE
TZID:America/Chicago
BEGIN:DAYLIGHT
TZOFFSETFROM:-0600
TZOFFSETTO:-0500
TZNAME:CDT
DTSTART:20210314T080000
END:DAYLIGHT
BEGIN:STANDARD
TZOFFSETFROM:-0500
TZOFFSETTO:-0600
TZNAME:CST
DTSTART:20211107T070000
END:STANDARD
END:VTIMEZONE
BEGIN:VEVENT
DTSTART;TZID=America/Chicago:20210422T170000
DTEND;TZID=America/Chicago:20210422T190000
DTSTAMP:20260423T121651
CREATED:20210423T193550Z
LAST-MODIFIED:20210423T193621Z
UID:28367-1619110800-1619118000@algop.org
SUMMARY:Montgomery County Executive Committee
DESCRIPTION:It has been over a year since the Montgomery County Republican Executive Committee (MCREC) has met in person so we are having a special meeting this month at Sweet Creek Farm Market with a BBQ dinner.  Suggested donation for dinner is $10. \nThursday\, April 22\, 2021 \n5:00 PM Dinner / 6:15 Meeting \nSpace is limited so RSVP today!
URL:https://algop.org/event/montgomery-county-executive-committee/
LOCATION:Sweet Creek Farm Market\, 85 Merriweather Road\, Pike Road\, AL\, United States
END:VEVENT
END:VCALENDAR