BEGIN:VCALENDAR
VERSION:2.0
PRODID:-//Alabama Republican Party - ECPv5.8.2//NONSGML v1.0//EN
CALSCALE:GREGORIAN
METHOD:PUBLISH
X-WR-CALNAME:Alabama Republican Party
X-ORIGINAL-URL:https://algop.org
X-WR-CALDESC:Events for Alabama Republican Party
BEGIN:VTIMEZONE
TZID:America/Chicago
BEGIN:DAYLIGHT
TZOFFSETFROM:-0600
TZOFFSETTO:-0500
TZNAME:CDT
DTSTART:20210314T080000
END:DAYLIGHT
BEGIN:STANDARD
TZOFFSETFROM:-0500
TZOFFSETTO:-0600
TZNAME:CST
DTSTART:20211107T070000
END:STANDARD
END:VTIMEZONE
BEGIN:VEVENT
DTSTART;TZID=America/Chicago:20210313T073000
DTEND;TZID=America/Chicago:20210313T090000
DTSTAMP:20260423T134346
CREATED:20210311T032054Z
LAST-MODIFIED:20210407T132221Z
UID:24617-1615620600-1615626000@algop.org
SUMMARY:DeKalb County Republican Breakfast Club
DESCRIPTION:
URL:https://algop.org/event/dekalb-county-republican-breakfast-club-2/2021-03-13/
LOCATION:Cattle Stampede Steak House\, 23980 John T Reid Parkway\, Scottsboro\, AL\, 35768\, United States
END:VEVENT
BEGIN:VEVENT
DTSTART;TZID=America/Chicago:20210313T090000
DTEND;TZID=America/Chicago:20210313T100000
DTSTAMP:20260423T134346
CREATED:20210311T032242Z
LAST-MODIFIED:20210311T032242Z
UID:27823-1615626000-1615629600@algop.org
SUMMARY:Mid Alabama Republican Club
DESCRIPTION:Meeting via Zoom until further notice.  Please email midalgop@gmail.com if you wish to receive the Zoom link.
URL:https://algop.org/event/mid-alabama-republican-club-3/2021-03-13/
LOCATION:AL
END:VEVENT
END:VCALENDAR