BEGIN:VCALENDAR
VERSION:2.0
PRODID:-//Alabama Republican Party - ECPv5.8.2//NONSGML v1.0//EN
CALSCALE:GREGORIAN
METHOD:PUBLISH
X-WR-CALNAME:Alabama Republican Party
X-ORIGINAL-URL:https://algop.org
X-WR-CALDESC:Events for Alabama Republican Party
BEGIN:VTIMEZONE
TZID:America/Chicago
BEGIN:DAYLIGHT
TZOFFSETFROM:-0600
TZOFFSETTO:-0500
TZNAME:CDT
DTSTART:20200308T080000
END:DAYLIGHT
BEGIN:STANDARD
TZOFFSETFROM:-0500
TZOFFSETTO:-0600
TZNAME:CST
DTSTART:20201101T070000
END:STANDARD
END:VTIMEZONE
BEGIN:VEVENT
DTSTART;TZID=America/Chicago:20200908T190000
DTEND;TZID=America/Chicago:20200908T200000
DTSTAMP:20260423T223110
CREATED:20200819T142054Z
LAST-MODIFIED:20200819T142054Z
UID:26995-1599591600-1599595200@algop.org
SUMMARY:Fayette County Republican Party Meeting
DESCRIPTION:meeting is virtual for the month of August
URL:https://algop.org/event/fayette-county-republican-party-meeting/2020-09-08/
LOCATION:Bevill State Community College in Fayette\, 2631 Temple Ave N\, Fayette\, AL\, 35555\, United States
END:VEVENT
END:VCALENDAR