BEGIN:VCALENDAR
VERSION:2.0
PRODID:-//Alabama Republican Party - ECPv5.8.2//NONSGML v1.0//EN
CALSCALE:GREGORIAN
METHOD:PUBLISH
X-WR-CALNAME:Alabama Republican Party
X-ORIGINAL-URL:https://algop.org
X-WR-CALDESC:Events for Alabama Republican Party
BEGIN:VTIMEZONE
TZID:America/Chicago
BEGIN:DAYLIGHT
TZOFFSETFROM:-0600
TZOFFSETTO:-0500
TZNAME:CDT
DTSTART:20200308T080000
END:DAYLIGHT
BEGIN:STANDARD
TZOFFSETFROM:-0500
TZOFFSETTO:-0600
TZNAME:CST
DTSTART:20201101T070000
END:STANDARD
END:VTIMEZONE
BEGIN:VEVENT
DTSTART;TZID=America/Chicago:20200211T180000
DTEND;TZID=America/Chicago:20200211T190000
DTSTAMP:20260424T084448
CREATED:20200122T174241Z
LAST-MODIFIED:20200207T202456Z
UID:26371-1581444000-1581447600@algop.org
SUMMARY:Clay County Republican Candidate Forum
DESCRIPTION:Broadcast live on WAFC FM.
URL:https://algop.org/event/clay-county-republican-party-meeting/
LOCATION:Clay County Farmers Market\, 86838 Highway 9\, Lineville\, AL\, 36266\, United States
END:VEVENT
END:VCALENDAR