BEGIN:VCALENDAR
VERSION:2.0
PRODID:-//Alabama Republican Party - ECPv5.8.2//NONSGML v1.0//EN
CALSCALE:GREGORIAN
METHOD:PUBLISH
X-WR-CALNAME:Alabama Republican Party
X-ORIGINAL-URL:https://algop.org
X-WR-CALDESC:Events for Alabama Republican Party
BEGIN:VTIMEZONE
TZID:America/Chicago
BEGIN:DAYLIGHT
TZOFFSETFROM:-0600
TZOFFSETTO:-0500
TZNAME:CDT
DTSTART:20200308T080000
END:DAYLIGHT
BEGIN:STANDARD
TZOFFSETFROM:-0500
TZOFFSETTO:-0600
TZNAME:CST
DTSTART:20201101T070000
END:STANDARD
END:VTIMEZONE
BEGIN:VEVENT
DTSTART;TZID=America/Chicago:20200111T073000
DTEND;TZID=America/Chicago:20200111T083000
DTSTAMP:20260424T103057
CREATED:20200122T164221Z
LAST-MODIFIED:20200807T154029Z
UID:26302-1578727800-1578731400@algop.org
SUMMARY:Dekalb County Republican Breakfast Club
DESCRIPTION:
URL:https://algop.org/event/dekalb-county-republican-breakfast-club/2020-01-11/
LOCATION:Dekalb County GOP Headquarters\, 3700 Gault Ave N\, Fort Payne\, AL\, 35967\, United States
END:VEVENT
END:VCALENDAR