BEGIN:VCALENDAR
VERSION:2.0
PRODID:-//Alabama Republican Party - ECPv5.8.2//NONSGML v1.0//EN
CALSCALE:GREGORIAN
METHOD:PUBLISH
X-WR-CALNAME:Alabama Republican Party
X-ORIGINAL-URL:https://algop.org
X-WR-CALDESC:Events for Alabama Republican Party
BEGIN:VTIMEZONE
TZID:America/Chicago
BEGIN:DAYLIGHT
TZOFFSETFROM:-0600
TZOFFSETTO:-0500
TZNAME:CDT
DTSTART:20190310T080000
END:DAYLIGHT
BEGIN:STANDARD
TZOFFSETFROM:-0500
TZOFFSETTO:-0600
TZNAME:CST
DTSTART:20191103T070000
END:STANDARD
END:VTIMEZONE
BEGIN:VEVENT
DTSTART;TZID=America/Chicago:20191120T183000
DTEND;TZID=America/Chicago:20191120T190000
DTSTAMP:20260424T130959
CREATED:20191114T191717Z
LAST-MODIFIED:20191114T191717Z
UID:26200-1574274600-1574276400@algop.org
SUMMARY:Jefferson County GOP Executive Committee Meeting
DESCRIPTION:
URL:https://algop.org/event/jefferson-county-gop-executive-committee-meeting/
LOCATION:Vestavia Hills Library\, Birmingham\, AL\, United States
END:VEVENT
END:VCALENDAR