BEGIN:VCALENDAR
VERSION:2.0
PRODID:-//Alabama Republican Party - ECPv5.8.2//NONSGML v1.0//EN
CALSCALE:GREGORIAN
METHOD:PUBLISH
X-WR-CALNAME:Alabama Republican Party
X-ORIGINAL-URL:https://algop.org
X-WR-CALDESC:Events for Alabama Republican Party
BEGIN:VTIMEZONE
TZID:America/Chicago
BEGIN:DAYLIGHT
TZOFFSETFROM:-0600
TZOFFSETTO:-0500
TZNAME:CDT
DTSTART:20190310T080000
END:DAYLIGHT
BEGIN:STANDARD
TZOFFSETFROM:-0500
TZOFFSETTO:-0600
TZNAME:CST
DTSTART:20191103T070000
END:STANDARD
END:VTIMEZONE
BEGIN:VEVENT
DTSTART;TZID=America/Chicago:20191114T180000
DTEND;TZID=America/Chicago:20191114T190000
DTSTAMP:20260424T131534
CREATED:20191114T193608Z
LAST-MODIFIED:20191114T193608Z
UID:26217-1573754400-1573758000@algop.org
SUMMARY:Walker County Republican Party
DESCRIPTION:
URL:https://algop.org/event/walker-county-republican-party/
LOCATION:Bevill Cafeteria – Jasper Campus\, 1411 Indiana Avenue\, Jasper\, AL\, 35501\, United States
END:VEVENT
END:VCALENDAR