BEGIN:VCALENDAR
VERSION:2.0
PRODID:-//Alabama Republican Party - ECPv5.8.2//NONSGML v1.0//EN
CALSCALE:GREGORIAN
METHOD:PUBLISH
X-WR-CALNAME:Alabama Republican Party
X-ORIGINAL-URL:https://algop.org
X-WR-CALDESC:Events for Alabama Republican Party
BEGIN:VTIMEZONE
TZID:America/Chicago
BEGIN:DAYLIGHT
TZOFFSETFROM:-0600
TZOFFSETTO:-0500
TZNAME:CDT
DTSTART:20190310T080000
END:DAYLIGHT
BEGIN:STANDARD
TZOFFSETFROM:-0500
TZOFFSETTO:-0600
TZNAME:CST
DTSTART:20191103T070000
END:STANDARD
END:VTIMEZONE
BEGIN:VEVENT
DTSTART;TZID=America/Chicago:20191111T180000
DTEND;TZID=America/Chicago:20191111T190000
DTSTAMP:20260424T132541
CREATED:20191114T193158Z
LAST-MODIFIED:20191114T193158Z
UID:26211-1573495200-1573498800@algop.org
SUMMARY:Winston County GOP Meeting
DESCRIPTION:
URL:https://algop.org/event/winston-county-gop-meeting-3/
LOCATION:Winston County Courthouse\, 25166 Highway 195\, Double Springs\, AL\, 35553\, United States
END:VEVENT
BEGIN:VEVENT
DTSTART;TZID=America/Chicago:20191111T183000
DTEND;TZID=America/Chicago:20191111T193000
DTSTAMP:20260424T132541
CREATED:20191114T193257Z
LAST-MODIFIED:20191114T193257Z
UID:26213-1573497000-1573500600@algop.org
SUMMARY:Coffee County Republican Committee
DESCRIPTION:
URL:https://algop.org/event/coffee-county-republican-committee/
LOCATION:PoFolks\, 650 Boll Weevil Cir\, Enterprise\, AL\, 36330\, United States
END:VEVENT
END:VCALENDAR