BEGIN:VCALENDAR
VERSION:2.0
PRODID:-//Alabama Republican Party - ECPv5.8.2//NONSGML v1.0//EN
CALSCALE:GREGORIAN
METHOD:PUBLISH
X-WR-CALNAME:Alabama Republican Party
X-ORIGINAL-URL:https://algop.org
X-WR-CALDESC:Events for Alabama Republican Party
BEGIN:VTIMEZONE
TZID:America/Chicago
BEGIN:DAYLIGHT
TZOFFSETFROM:-0600
TZOFFSETTO:-0500
TZNAME:CDT
DTSTART:20190310T080000
END:DAYLIGHT
BEGIN:STANDARD
TZOFFSETFROM:-0500
TZOFFSETTO:-0600
TZNAME:CST
DTSTART:20191103T070000
END:STANDARD
END:VTIMEZONE
BEGIN:VEVENT
DTSTART;TZID=America/Chicago:20191109T073000
DTEND;TZID=America/Chicago:20191109T203000
DTSTAMP:20260424T131553
CREATED:20191114T193518Z
LAST-MODIFIED:20191114T193518Z
UID:26215-1573284600-1573331400@algop.org
SUMMARY:Dekalb Republican Breakfast Club
DESCRIPTION:
URL:https://algop.org/event/dekalb-republican-breakfast-club-16/
LOCATION:Western Sizzlin Steak House\, 209 West Grand Avenue\, Rainbow City\, AL\, 35906\, United States
END:VEVENT
END:VCALENDAR