BEGIN:VCALENDAR
VERSION:2.0
PRODID:-//Alabama Republican Party - ECPv5.8.2//NONSGML v1.0//EN
CALSCALE:GREGORIAN
METHOD:PUBLISH
X-WR-CALNAME:Alabama Republican Party
X-ORIGINAL-URL:https://algop.org
X-WR-CALDESC:Events for Alabama Republican Party
BEGIN:VTIMEZONE
TZID:America/Chicago
BEGIN:DAYLIGHT
TZOFFSETFROM:-0600
TZOFFSETTO:-0500
TZNAME:CDT
DTSTART:20190310T080000
END:DAYLIGHT
BEGIN:STANDARD
TZOFFSETFROM:-0500
TZOFFSETTO:-0600
TZNAME:CST
DTSTART:20191103T070000
END:STANDARD
END:VTIMEZONE
BEGIN:VEVENT
DTSTART;TZID=America/Chicago:20191024T170000
DTEND;TZID=America/Chicago:20191024T190000
DTSTAMP:20260424T142650
CREATED:20190131T012427Z
LAST-MODIFIED:20190131T012427Z
UID:23709-1571936400-1571943600@algop.org
SUMMARY:Montgomery County Executive Committee Meeting
DESCRIPTION:Date: Thursday\, October 24 \nTime:Social Hour from 5:00-6:00PM\, 6PM \nLocation: Homewood Suites \n1800 Interstate Park Drive\, Montgomery\, AL 36109
URL:https://algop.org/event/montgomery-county-executive-committee-meeting-5/
LOCATION:Faulkner University Cafe\, 5345 Atlanta Highway\, Montgomery\, AL\, 36109\, United States
END:VEVENT
END:VCALENDAR