BEGIN:VCALENDAR
VERSION:2.0
PRODID:-//Alabama Republican Party - ECPv5.8.2//NONSGML v1.0//EN
CALSCALE:GREGORIAN
METHOD:PUBLISH
X-WR-CALNAME:Alabama Republican Party
X-ORIGINAL-URL:https://algop.org
X-WR-CALDESC:Events for Alabama Republican Party
BEGIN:VTIMEZONE
TZID:America/Chicago
BEGIN:DAYLIGHT
TZOFFSETFROM:-0600
TZOFFSETTO:-0500
TZNAME:CDT
DTSTART:20190310T080000
END:DAYLIGHT
BEGIN:STANDARD
TZOFFSETFROM:-0500
TZOFFSETTO:-0600
TZNAME:CST
DTSTART:20191103T070000
END:STANDARD
END:VTIMEZONE
BEGIN:VEVENT
DTSTART;TZID=America/Chicago:20191008T183000
DTEND;TZID=America/Chicago:20191008T193000
DTSTAMP:20260424T142545
CREATED:20190904T162311Z
LAST-MODIFIED:20190904T162311Z
UID:25447-1570559400-1570563000@algop.org
SUMMARY:Conecuh County Republicans
DESCRIPTION:
URL:https://algop.org/event/conecuh-county-republicans/
LOCATION:Evergreen First United Methodist Church – Bolden Building\, 118 Desplous Street\, Evergreen\, AL\, 36401\, United States
END:VEVENT
BEGIN:VEVENT
DTSTART;TZID=America/Chicago:20191008T183000
DTEND;TZID=America/Chicago:20191008T193000
DTSTAMP:20260424T142545
CREATED:20190912T185351Z
LAST-MODIFIED:20190912T192227Z
UID:25621-1570559400-1570563000@algop.org
SUMMARY:Jefferson County Republican Party Executive Committee
DESCRIPTION:
URL:https://algop.org/event/jefferson-county-republican-party-executive-committee-2/
LOCATION:Vestavia Hills Library\, Birmingham\, AL\, United States
END:VEVENT
END:VCALENDAR