BEGIN:VCALENDAR
VERSION:2.0
PRODID:-//Alabama Republican Party - ECPv5.8.2//NONSGML v1.0//EN
CALSCALE:GREGORIAN
METHOD:PUBLISH
X-WR-CALNAME:Alabama Republican Party
X-ORIGINAL-URL:https://algop.org
X-WR-CALDESC:Events for Alabama Republican Party
BEGIN:VTIMEZONE
TZID:America/Chicago
BEGIN:DAYLIGHT
TZOFFSETFROM:-0600
TZOFFSETTO:-0500
TZNAME:CDT
DTSTART:20190310T080000
END:DAYLIGHT
BEGIN:STANDARD
TZOFFSETFROM:-0500
TZOFFSETTO:-0600
TZNAME:CST
DTSTART:20191103T070000
END:STANDARD
END:VTIMEZONE
BEGIN:VEVENT
DTSTART;TZID=America/Chicago:20191007T190000
DTEND;TZID=America/Chicago:20191007T210000
DTSTAMP:20260424T142545
CREATED:20190129T044703Z
LAST-MODIFIED:20190129T044703Z
UID:23673-1570474800-1570482000@algop.org
SUMMARY:Mobile County Republican Party Meeting
DESCRIPTION:Date: Monday\, October 7 \nTime: 7PM \nLocation: Westminster Presbyterian Church \n2921 Airport Blvd\, Mobile\, AL 36606
URL:https://algop.org/event/mobile-county-republican-party-meeting-4/
LOCATION:Westminster Presbyterian Church\, Corner of Sage Ave and Airport Blvd\, Mobile\, AL\, United States
END:VEVENT
END:VCALENDAR