BEGIN:VCALENDAR
VERSION:2.0
PRODID:-//Alabama Republican Party - ECPv5.8.2//NONSGML v1.0//EN
CALSCALE:GREGORIAN
METHOD:PUBLISH
X-WR-CALNAME:Alabama Republican Party
X-ORIGINAL-URL:https://algop.org
X-WR-CALDESC:Events for Alabama Republican Party
BEGIN:VTIMEZONE
TZID:America/Chicago
BEGIN:DAYLIGHT
TZOFFSETFROM:-0600
TZOFFSETTO:-0500
TZNAME:CDT
DTSTART:20190310T080000
END:DAYLIGHT
BEGIN:STANDARD
TZOFFSETFROM:-0500
TZOFFSETTO:-0600
TZNAME:CST
DTSTART:20191103T070000
END:STANDARD
END:VTIMEZONE
BEGIN:VEVENT
DTSTART;TZID=America/Chicago:20191003T183000
DTEND;TZID=America/Chicago:20191003T193000
DTSTAMP:20260424T143722
CREATED:20190919T153107Z
LAST-MODIFIED:20190919T153442Z
UID:25627-1570127400-1570131000@algop.org
SUMMARY:East Alabama Republican Club
DESCRIPTION:
URL:https://algop.org/event/east-alabama-republican-club/
LOCATION:T Bones Restaurant\, 3745 US Highway 80 W\, Phenix City\, AL\, 36389\, United States
END:VEVENT
END:VCALENDAR