BEGIN:VCALENDAR
VERSION:2.0
PRODID:-//Alabama Republican Party - ECPv5.8.2//NONSGML v1.0//EN
CALSCALE:GREGORIAN
METHOD:PUBLISH
X-WR-CALNAME:Alabama Republican Party
X-ORIGINAL-URL:https://algop.org
X-WR-CALDESC:Events for Alabama Republican Party
BEGIN:VTIMEZONE
TZID:America/Chicago
BEGIN:DAYLIGHT
TZOFFSETFROM:-0600
TZOFFSETTO:-0500
TZNAME:CDT
DTSTART:20190310T080000
END:DAYLIGHT
BEGIN:STANDARD
TZOFFSETFROM:-0500
TZOFFSETTO:-0600
TZNAME:CST
DTSTART:20191103T070000
END:STANDARD
END:VTIMEZONE
BEGIN:VEVENT
DTSTART;TZID=America/Chicago:20190919T180000
DTEND;TZID=America/Chicago:20190919T200000
DTSTAMP:20260424T152042
CREATED:20190108T173546Z
LAST-MODIFIED:20190108T173546Z
UID:23165-1568916000-1568923200@algop.org
SUMMARY:Autauga Co. Republican Executive Board Meeting
DESCRIPTION:Date: Thursday\, September 19 \nTime: 6pm \nLocation: St. Joseph’s Parish \n511 N. Memorial Dr. Prattville\, AL
URL:https://algop.org/event/autauga-co-republican-executive-board-meeting-9/
LOCATION:St. Joseph’s Parish\,  511 N. Memorial Dr\, Prattville\, AL\, United States
END:VEVENT
BEGIN:VEVENT
DTSTART;TZID=America/Chicago:20190919T180000
DTEND;TZID=America/Chicago:20190919T190000
DTSTAMP:20260424T152042
CREATED:20190919T144827Z
LAST-MODIFIED:20190919T144827Z
UID:25624-1568916000-1568919600@algop.org
SUMMARY:Monroe County Republican Party
DESCRIPTION:
URL:https://algop.org/event/monroe-county-republican-party/
LOCATION:Broken Arrow Cafe\, 90 AL-59\, Uriah\, AL\, 36480\, United States
END:VEVENT
END:VCALENDAR