BEGIN:VCALENDAR
VERSION:2.0
PRODID:-//Alabama Republican Party - ECPv5.8.2//NONSGML v1.0//EN
CALSCALE:GREGORIAN
METHOD:PUBLISH
X-WR-CALNAME:Alabama Republican Party
X-ORIGINAL-URL:https://algop.org
X-WR-CALDESC:Events for Alabama Republican Party
BEGIN:VTIMEZONE
TZID:America/Chicago
BEGIN:DAYLIGHT
TZOFFSETFROM:-0600
TZOFFSETTO:-0500
TZNAME:CDT
DTSTART:20190310T080000
END:DAYLIGHT
BEGIN:STANDARD
TZOFFSETFROM:-0500
TZOFFSETTO:-0600
TZNAME:CST
DTSTART:20191103T070000
END:STANDARD
END:VTIMEZONE
BEGIN:VEVENT
DTSTART;TZID=America/Chicago:20190917T180000
DTEND;TZID=America/Chicago:20190917T203000
DTSTAMP:20260424T151751
CREATED:20190904T170254Z
LAST-MODIFIED:20190904T170424Z
UID:25474-1568743200-1568752200@algop.org
SUMMARY:Colbert County GOP Constitution Day Dinner
DESCRIPTION:
URL:https://algop.org/event/colbert-county-gop-constitution-day-dinner/
LOCATION:Robert Trent Jones Club House\, 990 Sunbelt Parkway\, Muscle Shoals\, AL\, 35661\, United States
END:VEVENT
BEGIN:VEVENT
DTSTART;TZID=America/Chicago:20190917T183000
DTEND;TZID=America/Chicago:20190917T193000
DTSTAMP:20260424T151751
CREATED:20190909T191006Z
LAST-MODIFIED:20190909T191006Z
UID:25527-1568745000-1568748600@algop.org
SUMMARY:Clay County Republican Committee
DESCRIPTION:
URL:https://algop.org/event/clay-county-republican-committee/
LOCATION:Lineville City Hall Annex\, 60151 Highway 49 North\, Lineville\, AL\, 36266\, United States
END:VEVENT
END:VCALENDAR