BEGIN:VCALENDAR
VERSION:2.0
PRODID:-//Alabama Republican Party - ECPv5.8.2//NONSGML v1.0//EN
CALSCALE:GREGORIAN
METHOD:PUBLISH
X-WR-CALNAME:Alabama Republican Party
X-ORIGINAL-URL:https://algop.org
X-WR-CALDESC:Events for Alabama Republican Party
BEGIN:VTIMEZONE
TZID:America/Chicago
BEGIN:DAYLIGHT
TZOFFSETFROM:-0600
TZOFFSETTO:-0500
TZNAME:CDT
DTSTART:20190310T080000
END:DAYLIGHT
BEGIN:STANDARD
TZOFFSETFROM:-0500
TZOFFSETTO:-0600
TZNAME:CST
DTSTART:20191103T070000
END:STANDARD
END:VTIMEZONE
BEGIN:VEVENT
DTSTART;TZID=America/Chicago:20190909T190000
DTEND;TZID=America/Chicago:20190909T200000
DTSTAMP:20260424T151929
CREATED:20190909T155406Z
LAST-MODIFIED:20190909T155406Z
UID:25521-1568055600-1568059200@algop.org
SUMMARY:Winston County GOP Executive Committee Meeting
DESCRIPTION:
URL:https://algop.org/event/winston-county-gop-executive-committee-meeting/
LOCATION:Winston County Courthouse\, 25166 Highway 195\, Double Springs\, AL\, 35553\, United States
END:VEVENT
END:VCALENDAR