BEGIN:VCALENDAR
VERSION:2.0
PRODID:-//Alabama Republican Party - ECPv5.8.2//NONSGML v1.0//EN
CALSCALE:GREGORIAN
METHOD:PUBLISH
X-WR-CALNAME:Alabama Republican Party
X-ORIGINAL-URL:https://algop.org
X-WR-CALDESC:Events for Alabama Republican Party
BEGIN:VTIMEZONE
TZID:America/Chicago
BEGIN:DAYLIGHT
TZOFFSETFROM:-0600
TZOFFSETTO:-0500
TZNAME:CDT
DTSTART:20190310T080000
END:DAYLIGHT
BEGIN:STANDARD
TZOFFSETFROM:-0500
TZOFFSETTO:-0600
TZNAME:CST
DTSTART:20191103T070000
END:STANDARD
END:VTIMEZONE
BEGIN:VEVENT
DTSTART;TZID=America/Chicago:20190701T183000
DTEND;TZID=America/Chicago:20190701T203000
DTSTAMP:20260424T111108
CREATED:20190702T150630Z
LAST-MODIFIED:20190702T150630Z
UID:25255-1562005800-1562013000@algop.org
SUMMARY:Republican Club of Central Alabama Meeting
DESCRIPTION:Hosted by Anderson for Alabama
URL:https://algop.org/event/republican-club-of-central-alabama-meeting-2/
LOCATION:Martha’s Place Buffet and Catering
END:VEVENT
BEGIN:VEVENT
DTSTART;TZID=America/Chicago:20190701T190000
DTEND;TZID=America/Chicago:20190701T210000
DTSTAMP:20260424T111108
CREATED:20190129T044637Z
LAST-MODIFIED:20190129T044637Z
UID:23672-1562007600-1562014800@algop.org
SUMMARY:Mobile County Republican Party Meeting
DESCRIPTION:Date: Monday\, July 1 \nTime: 7PM \nLocation: Westminster Presbyterian Church \n2921 Airport Blvd\, Mobile\, AL 36606
URL:https://algop.org/event/mobile-county-republican-party-meeting-3/
LOCATION:Westminster Presbyterian Church\, Corner of Sage Ave and Airport Blvd\, Mobile\, AL\, United States
END:VEVENT
END:VCALENDAR