BEGIN:VCALENDAR
VERSION:2.0
PRODID:-//Alabama Republican Party - ECPv5.8.2//NONSGML v1.0//EN
CALSCALE:GREGORIAN
METHOD:PUBLISH
X-WR-CALNAME:Alabama Republican Party
X-ORIGINAL-URL:https://algop.org
X-WR-CALDESC:Events for Alabama Republican Party
BEGIN:VTIMEZONE
TZID:America/Chicago
BEGIN:DAYLIGHT
TZOFFSETFROM:-0600
TZOFFSETTO:-0500
TZNAME:CDT
DTSTART:20190310T080000
END:DAYLIGHT
BEGIN:STANDARD
TZOFFSETFROM:-0500
TZOFFSETTO:-0600
TZNAME:CST
DTSTART:20191103T070000
END:STANDARD
END:VTIMEZONE
BEGIN:VEVENT
DTSTART;TZID=America/Chicago:20190627T180000
DTEND;TZID=America/Chicago:20190627T200000
DTSTAMP:20260424T111135
CREATED:20190621T041509Z
LAST-MODIFIED:20190621T041509Z
UID:25136-1561658400-1561665600@algop.org
SUMMARY:Madison County Young Republicans June Meeting
DESCRIPTION:
URL:https://algop.org/event/madison-county-young-republicans-june-meeting/
LOCATION:Schnitzel Ranch\, 501 Church Street\, Huntsville\, AL\, 35801\, United States
END:VEVENT
BEGIN:VEVENT
DTSTART;TZID=America/Chicago:20190627T183000
DTEND;TZID=America/Chicago:20190627T203000
DTSTAMP:20260424T111135
CREATED:20190610T151834Z
LAST-MODIFIED:20190610T151834Z
UID:25020-1561660200-1561667400@algop.org
SUMMARY:Summer Social at the Biscuits Game hosted by Montgomery County Republican Party
DESCRIPTION:Date: Thursday\, June 27\, 2019 \nTime: First pitch @ 6:35 pm \nLocation: Whistle Stop Grille @ Riverwalk Stadium \n  \nTickets are $25 and include your ticket to the game\, buffet dinner and beverages \nPurchase tickets on Eventbrite by going to \nwww.MGMGOP.com
URL:https://algop.org/event/summer-social-at-the-biscuits-game-hosted-by-montgomery-county-republican-party/
LOCATION:AL
END:VEVENT
END:VCALENDAR