BEGIN:VCALENDAR
VERSION:2.0
PRODID:-//Alabama Republican Party - ECPv5.8.2//NONSGML v1.0//EN
CALSCALE:GREGORIAN
METHOD:PUBLISH
X-WR-CALNAME:Alabama Republican Party
X-ORIGINAL-URL:https://algop.org
X-WR-CALDESC:Events for Alabama Republican Party
BEGIN:VTIMEZONE
TZID:America/Chicago
BEGIN:DAYLIGHT
TZOFFSETFROM:-0600
TZOFFSETTO:-0500
TZNAME:CDT
DTSTART:20190310T080000
END:DAYLIGHT
BEGIN:STANDARD
TZOFFSETFROM:-0500
TZOFFSETTO:-0600
TZNAME:CST
DTSTART:20191103T070000
END:STANDARD
END:VTIMEZONE
BEGIN:VEVENT
DTSTART;TZID=America/Chicago:20190319T113000
DTEND;TZID=America/Chicago:20190319T140000
DTSTAMP:20260424T062420
CREATED:20190129T043014Z
LAST-MODIFIED:20190129T043014Z
UID:23653-1552995000-1553004000@algop.org
SUMMARY:Downtown Republican Women Meeting
DESCRIPTION:Date: Tuesday\, March 19 \nTime: Social time at 11:30AM; lunch is at 12PM. \nLocation: Below the Radar \n220 Holmes Avenue\, Huntsville\, AL 35801 \n  \nPlease RSVP for this event to Marcia St. Louis at marciastlouis@gmail.com.  Lunch is ordered off the menu.
URL:https://algop.org/event/downtown-republican-women-meeting-2/
END:VEVENT
BEGIN:VEVENT
DTSTART;TZID=America/Chicago:20190319T180000
DTEND;TZID=America/Chicago:20190319T200000
DTSTAMP:20260424T062420
CREATED:20190111T154330Z
LAST-MODIFIED:20190129T025324Z
UID:23508-1553018400-1553025600@algop.org
SUMMARY:Elmore County Republican Party 2019 Annual Dinner
DESCRIPTION:Keynote Speaker: Congressman Bradley Byrne \nDate: Tuesday\, March 19 \nTime: 6 PM \nLocation: Millbrook Civic Center \nFor more information call (334) 399-7145. Tickets are $50 \nGet tickets here: https://www.eventbrite.com/e/elmore-county-republican-dinner-tickets-55074841333?aff=ebdshpsearchautocomplete&fbclid=IwAR1jQ3mPOFQwZo6fw8deaGMKDzFgFhTEyI1GTogEOoRZ_wxqzeUgA1A3XYI
URL:https://algop.org/event/elmore-county-republican-party-2019-annual-dinner/
LOCATION:Millbrook Civic Center\, 3168 Park Circle\, AL\, 36054\, United States
END:VEVENT
BEGIN:VEVENT
DTSTART;TZID=America/Chicago:20190319T180000
DTEND;TZID=America/Chicago:20190319T193000
DTSTAMP:20260424T062420
CREATED:20190129T043112Z
LAST-MODIFIED:20190129T043112Z
UID:23655-1553018400-1553023800@algop.org
SUMMARY:Madison County Young Republicans Meeting
DESCRIPTION:Date: Tuesday\, March 19 \nTime: 6:00PM – 7:30PM \nLocation: Yellowhammer Brewery \n2600 Clinton Ave W\, Huntsville\, AL 35805
URL:https://algop.org/event/madison-county-young-republicans-meeting-2/
END:VEVENT
END:VCALENDAR