BEGIN:VCALENDAR
VERSION:2.0
PRODID:-//Alabama Republican Party - ECPv5.8.2//NONSGML v1.0//EN
CALSCALE:GREGORIAN
METHOD:PUBLISH
X-WR-CALNAME:Alabama Republican Party
X-ORIGINAL-URL:https://algop.org
X-WR-CALDESC:Events for Alabama Republican Party
BEGIN:VTIMEZONE
TZID:America/Chicago
BEGIN:DAYLIGHT
TZOFFSETFROM:-0600
TZOFFSETTO:-0500
TZNAME:CDT
DTSTART:20190310T080000
END:DAYLIGHT
BEGIN:STANDARD
TZOFFSETFROM:-0500
TZOFFSETTO:-0600
TZNAME:CST
DTSTART:20191103T070000
END:STANDARD
END:VTIMEZONE
BEGIN:VEVENT
DTSTART;TZID=America/Chicago:20190313T190000
DTEND;TZID=America/Chicago:20190313T210000
DTSTAMP:20260424T062421
CREATED:20190312T145458Z
LAST-MODIFIED:20190312T145458Z
UID:24232-1552503600-1552510800@algop.org
SUMMARY:Young Republicans Meeting with Judge Michelle Thomason
DESCRIPTION:Date: Wednesday\, March 13 \nTime: 7 PM – 9 PM \nLocation: The Bone and Barrel \n311 Fairhope Ave\, Fairhope\, Alabama 36532 \n  \nHosted by Baldwin County Young Republicans
URL:https://algop.org/event/young-republicans-meeting-with-judge-michelle-thomason/
LOCATION:The Bone and Barrel\, 311 Fairhope Avenue\, Fairhope\, AL\, 36532\, United States
END:VEVENT
END:VCALENDAR