BEGIN:VCALENDAR
VERSION:2.0
PRODID:-//Alabama Republican Party - ECPv5.8.2//NONSGML v1.0//EN
CALSCALE:GREGORIAN
METHOD:PUBLISH
X-WR-CALNAME:Alabama Republican Party
X-ORIGINAL-URL:https://algop.org
X-WR-CALDESC:Events for Alabama Republican Party
BEGIN:VTIMEZONE
TZID:America/Chicago
BEGIN:DAYLIGHT
TZOFFSETFROM:-0600
TZOFFSETTO:-0500
TZNAME:CDT
DTSTART:20190310T080000
END:DAYLIGHT
BEGIN:STANDARD
TZOFFSETFROM:-0500
TZOFFSETTO:-0600
TZNAME:CST
DTSTART:20191103T070000
END:STANDARD
END:VTIMEZONE
BEGIN:VEVENT
DTSTART;TZID=America/Chicago:20190228T183000
DTEND;TZID=America/Chicago:20190228T203000
DTSTAMP:20260424T050640
CREATED:20190218T175919Z
LAST-MODIFIED:20190218T175919Z
UID:23927-1551378600-1551385800@algop.org
SUMMARY:Tuscaloosa County Republican Party February Meeting
DESCRIPTION:Thursday\, February 28\, 2019 at 6:30 PM – 8 PM \nVisitors are welcome. \nMeeting will take place in the County Extension Annex Auditorium. The Auditorium is best entered from the large parking lot north of 8th Street\, between the two Lurleen Wallace Blvds. \nAddress: 2513 7th St \nTuscaloosa\, AL 35401
URL:https://algop.org/event/tuscaloosa-county-republican-party-february-meeting/
END:VEVENT
END:VCALENDAR