BEGIN:VCALENDAR
VERSION:2.0
PRODID:-//Alabama Republican Party - ECPv5.8.2//NONSGML v1.0//EN
CALSCALE:GREGORIAN
METHOD:PUBLISH
X-WR-CALNAME:Alabama Republican Party
X-ORIGINAL-URL:https://algop.org
X-WR-CALDESC:Events for Alabama Republican Party
BEGIN:VTIMEZONE
TZID:America/Chicago
BEGIN:DAYLIGHT
TZOFFSETFROM:-0600
TZOFFSETTO:-0500
TZNAME:CDT
DTSTART:20190310T080000
END:DAYLIGHT
BEGIN:STANDARD
TZOFFSETFROM:-0500
TZOFFSETTO:-0600
TZNAME:CST
DTSTART:20191103T070000
END:STANDARD
END:VTIMEZONE
BEGIN:VEVENT
DTSTART;TZID=America/Chicago:20190219T113000
DTEND;TZID=America/Chicago:20190219T120000
DTSTAMP:20260424T050700
CREATED:20190129T030952Z
LAST-MODIFIED:20190129T030952Z
UID:23631-1550575800-1550577600@algop.org
SUMMARY:Downtown Republican Women Meeting
DESCRIPTION:Date: Tuesday\, February 19 \nTime: Social time at 11:30AM\, and lunch at 12PM. \nLocation: Below the Radar \n220 Holmes Avenue\, Huntsville\, AL 35801 \n  \nRSVP for this event to Marcia St. Louis at marciastlouis@gmail.com.  Lunch is ordered off the menu.
URL:https://algop.org/event/downtown-republican-women-meeting/
END:VEVENT
BEGIN:VEVENT
DTSTART;TZID=America/Chicago:20190219T180000
DTEND;TZID=America/Chicago:20190219T193000
DTSTAMP:20260424T050700
CREATED:20190129T031135Z
LAST-MODIFIED:20190129T031135Z
UID:23633-1550599200-1550604600@algop.org
SUMMARY:Madison County Young Republicans Meeting
DESCRIPTION:Date: Tuesday\, February 19 \nTime: 6:00PM-7:30PM \nLocation: Yellowhammer Brewery \n2600 Clinton Ave W\, Huntsville\, AL 35805.
URL:https://algop.org/event/madison-county-young-republicans-meeting/
END:VEVENT
BEGIN:VEVENT
DTSTART;TZID=America/Chicago:20190219T183000
DTEND;TZID=America/Chicago:20190219T203000
DTSTAMP:20260424T050700
CREATED:20190108T171940Z
LAST-MODIFIED:20190108T172117Z
UID:23131-1550601000-1550608200@algop.org
SUMMARY:Chilton County Republican Executive Committee Meeting
DESCRIPTION:Date: Tuesday\, February 19 \nTime: Starts at 6:30pm \nLocation: TBD
URL:https://algop.org/event/chilton-county-republican-executive-committee-meeting-2/
END:VEVENT
END:VCALENDAR