BEGIN:VCALENDAR
VERSION:2.0
PRODID:-//Alabama Republican Party - ECPv5.8.2//NONSGML v1.0//EN
CALSCALE:GREGORIAN
METHOD:PUBLISH
X-WR-CALNAME:Alabama Republican Party
X-ORIGINAL-URL:https://algop.org
X-WR-CALDESC:Events for Alabama Republican Party
BEGIN:VTIMEZONE
TZID:America/Chicago
BEGIN:DAYLIGHT
TZOFFSETFROM:-0600
TZOFFSETTO:-0500
TZNAME:CDT
DTSTART:20190310T080000
END:DAYLIGHT
BEGIN:STANDARD
TZOFFSETFROM:-0500
TZOFFSETTO:-0600
TZNAME:CST
DTSTART:20191103T070000
END:STANDARD
END:VTIMEZONE
BEGIN:VEVENT
DTSTART;TZID=America/Chicago:20190217T140000
DTEND;TZID=America/Chicago:20190217T160000
DTSTAMP:20260424T050640
CREATED:20190201T160102Z
LAST-MODIFIED:20190201T160102Z
UID:23727-1550412000-1550419200@algop.org
SUMMARY:Meeting on Plan Z: Fund Highways Without Gas Tax Hike
DESCRIPTION:Date: Sunday\, February 17\, 2019 \nTime: 2 PM – 4 PM \nLocation: Huntsville Christian Academy \n175 W Park Loop NW\, Huntsville\, Alabama 35806 \n  \nPlease call Mike Parsons\, 256-684-5496\, if you have any questions.
URL:https://algop.org/event/meeting-on-plan-z-fund-highways-without-gas-tax-hike/
END:VEVENT
END:VCALENDAR