BEGIN:VCALENDAR
VERSION:2.0
PRODID:-//Alabama Republican Party - ECPv5.8.2//NONSGML v1.0//EN
CALSCALE:GREGORIAN
METHOD:PUBLISH
X-WR-CALNAME:Alabama Republican Party
X-ORIGINAL-URL:https://algop.org
X-WR-CALDESC:Events for Alabama Republican Party
BEGIN:VTIMEZONE
TZID:America/Chicago
BEGIN:DAYLIGHT
TZOFFSETFROM:-0600
TZOFFSETTO:-0500
TZNAME:CDT
DTSTART:20190310T080000
END:DAYLIGHT
BEGIN:STANDARD
TZOFFSETFROM:-0500
TZOFFSETTO:-0600
TZNAME:CST
DTSTART:20191103T070000
END:STANDARD
END:VTIMEZONE
BEGIN:VEVENT
DTSTART;TZID=America/Chicago:20190216T070000
DTEND;TZID=America/Chicago:20190216T090000
DTSTAMP:20260424T050700
CREATED:20190123T031429Z
LAST-MODIFIED:20190123T031429Z
UID:23589-1550300400-1550307600@algop.org
SUMMARY:Madison County Republican Mens Club Meeting
DESCRIPTION:Date: Saturday\, February 16 \nTime: Social Hour at 7:00 AM; Breakfast at 8:00AM \nLocation: Trinity United Methodist Church \nAirport Road\, Huntsville
URL:https://algop.org/event/madison-county-republican-mens-club-meeting/
END:VEVENT
END:VCALENDAR