BEGIN:VCALENDAR
VERSION:2.0
PRODID:-//Alabama Republican Party - ECPv5.8.2//NONSGML v1.0//EN
CALSCALE:GREGORIAN
METHOD:PUBLISH
X-WR-CALNAME:Alabama Republican Party
X-ORIGINAL-URL:https://algop.org
X-WR-CALDESC:Events for Alabama Republican Party
BEGIN:VTIMEZONE
TZID:America/Chicago
BEGIN:DAYLIGHT
TZOFFSETFROM:-0600
TZOFFSETTO:-0500
TZNAME:CDT
DTSTART:20190310T080000
END:DAYLIGHT
BEGIN:STANDARD
TZOFFSETFROM:-0500
TZOFFSETTO:-0600
TZNAME:CST
DTSTART:20191103T070000
END:STANDARD
END:VTIMEZONE
BEGIN:VEVENT
DTSTART;TZID=America/Chicago:20190212T080000
DTEND;TZID=America/Chicago:20190212T170000
DTSTAMP:20260424T050737
CREATED:20190108T175139Z
LAST-MODIFIED:20190108T175139Z
UID:23171-1549958400-1549990800@algop.org
SUMMARY:ALGOP 5th Congressional District Meeting
DESCRIPTION:Date: Tuesday\, February 12th \nTime: 6:00 PM Dinner; 7:00 PM meeting \nLocation: Greenbrier Restaurant
URL:https://algop.org/event/algop-5th-congressional-district-meeting/
LOCATION:Greenbrier Restaurant\, 27028 Old Highway 20\, Madison\, AL\, 35756\, United States
END:VEVENT
BEGIN:VEVENT
DTSTART;TZID=America/Chicago:20190212T180000
DTEND;TZID=America/Chicago:20190212T190000
DTSTAMP:20260424T050737
CREATED:20190201T155858Z
LAST-MODIFIED:20190201T155858Z
UID:23721-1549994400-1549998000@algop.org
SUMMARY:Town Hall with Representative Chris Pringle
DESCRIPTION:Date: Tuesday\, February 12 \nTime: 6 PM – 7 PM \nLocation: University of South Alabama\, Student Center Ballroom \n36688\, 350 Campus Dr\, Mobile\, AL 36608 \n  \nThey will be discussing accountability in government\, cutting wasteful spending\, and making government work for the people.
URL:https://algop.org/event/town-hall-with-representative-chris-pringle/
LOCATION:AL
END:VEVENT
BEGIN:VEVENT
DTSTART;TZID=America/Chicago:20190212T180000
DTEND;TZID=America/Chicago:20190212T200000
DTSTAMP:20260424T050737
CREATED:20190205T221209Z
LAST-MODIFIED:20190205T221209Z
UID:23764-1549994400-1550001600@algop.org
SUMMARY:Representative Scott Stadthagen Town Hall
DESCRIPTION:Date: Tuesday\, February 12 \nTime: 6PM \nLocation: The Burleson Center \n307 College St NE\, Hartselle\, AL 35640
URL:https://algop.org/event/representative-scott-stadthagen-town-hall-3/
LOCATION:AL
END:VEVENT
BEGIN:VEVENT
DTSTART;TZID=America/Chicago:20190212T183000
DTEND;TZID=America/Chicago:20190212T203000
DTSTAMP:20260424T050737
CREATED:20190206T173146Z
LAST-MODIFIED:20190206T173658Z
UID:23801-1549996200-1550003400@algop.org
SUMMARY:Jefferson County GOP Steering Committee Meeting
DESCRIPTION:
URL:https://algop.org/event/jefferson-county-gop-steering-committee-meeting/
LOCATION:Vestavia Hills Chamber of Commerce Conference Room\, 1975 Merryvale Road\, AL\, 35216\, United States
END:VEVENT
END:VCALENDAR